BEGIN:VCALENDAR
VERSION:2.0
PRODID:-//ChamberMaster//Event Calendar 2.0//EN
METHOD:PUBLISH
X-PUBLISHED-TTL:P3D
REFRESH-INTERVAL:P3D
CALSCALE:GREGORIAN
BEGIN:VEVENT
DTSTART:20180919T161500Z
DTEND:20180919T170000Z
X-MICROSOFT-CDO-ALLDAYEVENT:FALSE
SUMMARY:Inside the World of Franchising: Funding Your Franchise
DESCRIPTION:Topic: Starting a Business\n\nSo\, you have decided to buy or start up a business.  GREAT!!  \n\nIn the 2nd of this 6 part series\, you will learn:\n\n- how to pay for your franchise\,\n\n- what funding options are available to you\, and\n\n- how to go about getting prequalified.
X-ALT-DESC;FMTTYPE=text/html:Topic: Starting a Business<br />\nSo\, you have decided to buy or start up a business.&nbsp\; GREAT!!&nbsp\;&nbsp\;<br />\nIn the 2nd of this 6 part series\, you will learn:<br />\n- how to pay for your franchise\,<br />\n- what funding options are available to you\, and<br />\n- how to go about getting prequalified.
LOCATION:Online
UID:e.3222.155
SEQUENCE:3
DTSTAMP:20260421T174903Z
URL:https://www.apacc.net/events/details/inside-the-world-of-franchising-funding-your-franchise-155
END:VEVENT

END:VCALENDAR
