BEGIN:VCALENDAR
VERSION:2.0
PRODID:-//ChamberMaster//Event Calendar 2.0//EN
METHOD:PUBLISH
X-PUBLISHED-TTL:P3D
REFRESH-INTERVAL:P3D
CALSCALE:GREGORIAN
BEGIN:VEVENT
DTSTART:20200707T170000Z
DTEND:20200707T180000Z
X-MICROSOFT-CDO-ALLDAYEVENT:FALSE
SUMMARY:Infrastructure Projects in Latin America Webinar Series - Central America
DESCRIPTION:Overview\n\n  This Webinar Series will focus on upcoming infrastructure projects in Latin America announced by different governments in the region to stimulate their economies.\n\n\n\nObjectives\n\n  Learn about infrastructure projects in Latin America\n\n\n\nEvent Information\n\n	Markets to include: Panama\, Mexico Argentina\, Paraguay\, Uruguay\, Peru\, Chile\, Ecuador\, the Caribbean Region\, and the Central America Region.\n	Take advantage of this great opportunity and learn about upcoming projects in the region.\n	Procurement needs\, licenses and registration requirements in different countries\, trade barriers and market access issues.\n	U.S. Government international trade contacts to support your international sales growth.
X-ALT-DESC;FMTTYPE=text/html:<strong>Overview</strong><br />\n&nbsp\; This Webinar Series will focus on upcoming infrastructure projects in Latin America announced by different governments in the region to stimulate their economies.<br />\n<br />\n<strong>Objectives</strong><br />\n&nbsp\; Learn about infrastructure projects in Latin America<br />\n<br />\n<strong>Event Information</strong>\n<ul>\n	<li>Markets to include: Panama\, Mexico Argentina\, Paraguay\, Uruguay\, Peru\, Chile\, Ecuador\, the Caribbean Region\, and the Central America Region.</li>\n	<li>Take advantage of this great opportunity and learn about upcoming projects in the region.</li>\n	<li>Procurement needs\, licenses and registration requirements in different countries\, trade barriers and market access issues.</li>\n	<li>U.S. Government international trade contacts to support your international sales growth.</li>\n</ul>\n
LOCATION:Webinar by U.S. Commercial Services
UID:e.3222.1820
SEQUENCE:3
DTSTAMP:20260424T110606Z
URL:https://www.apacc.net/events/details/infrastructure-projects-in-latin-america-webinar-series-central-america-1820
END:VEVENT

END:VCALENDAR
