BEGIN:VCALENDAR
VERSION:2.0
PRODID:-//ChamberMaster//Event Calendar 2.0//EN
METHOD:PUBLISH
X-PUBLISHED-TTL:P3D
REFRESH-INTERVAL:P3D
CALSCALE:GREGORIAN
BEGIN:VEVENT
DTSTART:20201110T180000Z
DTEND:20201110T190000Z
X-MICROSOFT-CDO-ALLDAYEVENT:FALSE
SUMMARY:Increase Online Visibility with the APACC Member Information Center
DESCRIPTION:APACC\, in partnership with National Ace\, presents an interactive webinar. Learn how to complete your member profile to allow others to find and connect with you. The more complete your profile is\, the more opportunity and ROI you will receive with your APACC membership\, such as opportunities for referrals and proposals. Learn how to post jobs on the APACC Job board to attract a diverse workforce and submit press releases & general articles to increase visibility. This is an interactive webinar\, be prepared to login to your APACC Member Information Center (MIC) and network with APACC members.\n\n\n\nPresenter:\n\nLeonie Teichman\, Operations Manager\n\nLeonie has been with APACC for 5 years and will be able to guide you through the process.
X-ALT-DESC;FMTTYPE=text/html:APACC\, in partnership with National Ace\, presents an interactive webinar. Learn how to complete your member profile to allow others to find and connect with you. The more complete your profile is\, the more opportunity and ROI you will receive with your APACC membership\, such as opportunities for referrals and proposals. Learn how to post jobs on the APACC Job board to attract a diverse workforce and submit press releases &amp\; general articles to increase visibility. This is an interactive webinar\, be prepared to login to your APACC Member Information Center (MIC) and network with APACC members.<br />\n<br />\nPresenter:<br />\nLeonie Teichman\,&nbsp\;Operations Manager<br />\nLeonie has been with APACC for 5 years and will be able to guide you through the process.
LOCATION:Webinar Zoom link will be sent
UID:e.3222.2002
SEQUENCE:3
DTSTAMP:20260424T055832Z
URL:https://www.apacc.net/events/details/increase-online-visibility-with-the-apacc-member-information-center-2002
END:VEVENT

END:VCALENDAR
