BEGIN:VCALENDAR
VERSION:2.0
PRODID:-//ChamberMaster//Event Calendar 2.0//EN
METHOD:PUBLISH
X-PUBLISHED-TTL:P3D
REFRESH-INTERVAL:P3D
CALSCALE:GREGORIAN
BEGIN:VEVENT
DTSTART:20250623T203000Z
DTEND:20250623T233000Z
X-MICROSOFT-CDO-ALLDAYEVENT:FALSE
SUMMARY:Immigrant Heritage Month: Legacy Across Borders
DESCRIPTION:Join us in-person at TechTown Detroit for Immigrant Heritage Month: Legacy Across Borders a special evening dedicated to celebrating the vibrant stories\, cultures and entrepreneurial journeys of immigrant and first-generation business owners. Enjoy multi-cultural food and networking.\n\n\n\nIn honor of Immigrant Heritage Month\, this event brings together founders\, community leaders and supporters for a night of inspiration and connection. The evening will begin with a thought-provoking panel discussion featuring local leaders from entrepreneurial support organizations sharing insights on resilience\, growth and building businesses in Detroit.\n\n\n\nThen\, we'll transition into Heritage Story Circles\, where local immigrant entrepreneurs\, all of whom are TechTown alumni\, will serve as storytellers\, sharing personal reflections on their cultural roots\, entrepreneurial path and lessons learned along the way. These small-group conversations are designed to spark connection\, celebrate identity and highlight the global influence shaping Detroit's small business community.\n\n\n\nWhether you're a business owner\, community member or ally   this event is a celebration of heritage\, hustle and the power of diverse voices.\n\n\n\nPlease Note:\n\n\n\nWe are intentionally keeping this gathering small and private to create an intimate\, supportive space for attendees to connect and engage. You're welcome to share this opportunity directly with others who may benefit\, but we kindly ask that it not be shared broadly or posted on social media.
X-ALT-DESC;FMTTYPE=text/html:<br />\nJoin us in-person at TechTown Detroit for <strong>Immigrant Heritage Month: Legacy Across Borders</strong> a special evening dedicated to celebrating the vibrant stories\, cultures and entrepreneurial journeys of immigrant and first-generation business owners. Enjoy multi-cultural food and networking.<br />\n<br />\nIn honor of <strong>Immigrant Heritage Month</strong>\, this event brings together founders\, community leaders and supporters for a night of inspiration and connection. The evening will begin with a thought-provoking panel discussion featuring local leaders from entrepreneurial support organizations sharing insights on resilience\, growth and building businesses in Detroit.<br />\n<br />\nThen\, we&rsquo\;ll transition into <strong>Heritage Story Circles</strong>\, where local immigrant entrepreneurs\, all of whom are TechTown alumni\, will serve as storytellers\, sharing personal reflections on their cultural roots\, entrepreneurial path and lessons learned along the way. These small-group conversations are designed to spark connection\, celebrate identity and highlight the global influence shaping Detroit&rsquo\;s small business community.<br />\n<br />\nWhether you&#39\;re a business owner\, community member or ally &mdash\; this event is a celebration of heritage\, hustle and the power of diverse voices.<br />\n<br />\n<strong>Please Note:</strong><br />\n<br />\nWe are intentionally keeping this gathering small and private to create an intimate\, supportive space for attendees to connect and engage. You&rsquo\;re welcome to share this opportunity directly with others who may benefit\, but we kindly ask that it not be shared broadly or posted on social media.
LOCATION:TechTown
UID:e.3222.2996
SEQUENCE:3
DTSTAMP:20260425T173641Z
URL:https://www.apacc.net/events/details/immigrant-heritage-month-legacy-across-borders-2996
END:VEVENT

END:VCALENDAR
