BEGIN:VCALENDAR
VERSION:2.0
PRODID:-//ChamberMaster//Event Calendar 2.0//EN
METHOD:PUBLISH
X-PUBLISHED-TTL:P3D
REFRESH-INTERVAL:P3D
CALSCALE:GREGORIAN
BEGIN:VEVENT
DTSTART:20200709T170000Z
DTEND:20200709T180000Z
X-MICROSOFT-CDO-ALLDAYEVENT:FALSE
SUMMARY:ICT opportunities in Chile: Digital economy\, Cybersecurity and more
DESCRIPTION:Overview\n\nAs the worlds largest cooper producer\, the Pinera Administration is looking to diversify Chile economic matrix by prioritizing ICT\, Cybersecurity\, and the Digital economy as the focal point of this transformation.\n\n\n\nObjectives\n\nExplore the Information and Communication Technology (ICT) opportunities in the Chilean market\n\n\n\nEvent Information\n\n	Chile is launching new initiatives to expand to a digital services led economy and cement its status as a regional hub in ICT\, cybersecurity\, AI\, and blockchain\n	Chile has one of the highest internet penetration rates of the region\, most of the users connect to the internet from their smartphones.\n	In 2019 the Pi era administration announced a National Cybersecurity Plan\, the country also passed a bill to define and protect Critical Infrastructure.\n	Best ICT Prospects: Cybersecurity\, AI\, IoT\, Blockchain\, online banking services\, online education\, eCommerce\, digital marketing\, ICT consulting\, smart cities.
X-ALT-DESC;FMTTYPE=text/html:<strong>Overview</strong><br />\nAs the worlds largest cooper producer\, the Pinera Administration is looking to diversify Chile economic matrix by prioritizing ICT\, Cybersecurity\, and the Digital economy as the focal point of this transformation.<br />\n<br />\n<strong>Objectives</strong><br />\nExplore the Information and Communication Technology (ICT) opportunities in the Chilean market<br />\n<br />\n<strong>Event Information</strong>\n<ul>\n	<li>Chile is launching new initiatives to expand to a digital services led economy and cement its status as a regional hub in ICT\, cybersecurity\, AI\, and blockchain</li>\n	<li>Chile has one of the highest internet penetration rates of the region\, most of the users connect to the internet from their smartphones.</li>\n	<li>In 2019 the Pi&ntilde\;era administration announced a National Cybersecurity Plan\, the country also passed a bill to define and protect Critical Infrastructure.</li>\n	<li>Best ICT Prospects: Cybersecurity\, AI\, IoT\, Blockchain\, online banking services\, online education\, eCommerce\, digital marketing\, ICT consulting\, smart cities.</li>\n</ul>\n
LOCATION:Webinar by U.S. Commercial Service
UID:e.3222.1799
SEQUENCE:3
DTSTAMP:20260422T070110Z
URL:https://www.apacc.net/events/details/ict-opportunities-in-chile-digital-economy-cybersecurity-and-more-1799
END:VEVENT

END:VCALENDAR
