BEGIN:VCALENDAR
VERSION:2.0
PRODID:-//ChamberMaster//Event Calendar 2.0//EN
METHOD:PUBLISH
X-PUBLISHED-TTL:P3D
REFRESH-INTERVAL:P3D
CALSCALE:GREGORIAN
BEGIN:VEVENT
DTSTART:20250917T160000Z
DTEND:20250917T170000Z
X-MICROSOFT-CDO-ALLDAYEVENT:FALSE
SUMMARY:How to Fund Your Technology Business
DESCRIPTION:The SBA Michigan District Office in collaboration with the BBCetc and ID Ventures presents "How to Fund Your Technology Business"\, Wednesday\, September 17\, 2025\, from 12:00 pm to 1:00 pm\, EDT.  Explore the types of funding available during the various stages of development of a new technology such as Small Business Innovation Research (SBIR) and Small Business Technology Transfer Research (STTR) grants\, small business loans and venture capital.\n\n\n\nThis session will be moderated by Latifa Bradwell\, Lender Relations Specialist at the U.S. SBA Michigan District Office.  Joining Latifa\, we are pleased to have as our guest speakers\, Jerry Hollister\, Executive Consultant and Co-Owner of the BBCetc\, a technology consulting firm in Michigan that supports the SBA's SBIR/STTR funding programs and Martin Dober\, Managing Director of ID Ventures\, a venture fund and division of Invest Detroit.\n\n\n\nThe SBA's cooperation in this event does not constitute or imply their endorsement of any opinions\, products or services. All SBA programs are extended to the public on a nondiscriminatory basis.
X-ALT-DESC;FMTTYPE=text/html:<br />\nThe SBA Michigan District Office in collaboration with the BBCetc and ID Ventures presents &ldquo\;How to Fund Your Technology Business&rdquo\;\, Wednesday\, September 17\, 2025\, from 12:00 pm to 1:00 pm\, EDT.&nbsp\; Explore the types of funding available during the various stages of development of a new technology such as Small Business Innovation Research (SBIR) and Small Business Technology Transfer Research (STTR) grants\, small business loans and venture capital.<br />\n<br />\nThis session will be moderated by Latifa Bradwell\, Lender Relations Specialist at the U.S. SBA Michigan District Office.&nbsp\; Joining Latifa\, we are pleased to have as our guest speakers\, Jerry Hollister\, Executive Consultant and Co-Owner of the BBCetc\, a technology consulting firm in Michigan that supports the SBA&rsquo\;s SBIR/STTR funding programs and Martin Dober\, Managing Director of ID Ventures\, a venture fund and division of Invest Detroit.<br />\n<br />\nThe SBA&rsquo\;s cooperation in this event does not constitute or imply their endorsement of any opinions\, products or services. All SBA programs are extended to the public on a nondiscriminatory basis.
LOCATION:Webinar
UID:e.3222.3021
SEQUENCE:3
DTSTAMP:20260425T222251Z
URL:https://www.apacc.net/events/details/how-to-fund-your-technology-business-3021
END:VEVENT

END:VCALENDAR
