BEGIN:VCALENDAR
VERSION:2.0
PRODID:-//ChamberMaster//Event Calendar 2.0//EN
METHOD:PUBLISH
X-PUBLISHED-TTL:P3D
REFRESH-INTERVAL:P3D
CALSCALE:GREGORIAN
BEGIN:VEVENT
DTSTART:20200417T160000Z
DTEND:20200417T170000Z
X-MICROSOFT-CDO-ALLDAYEVENT:FALSE
SUMMARY:How to Develop and Implement COVID-19 Preparedness and Response Plan to Protect Your Employees and Your Business
DESCRIPTION:Join Warner attorneys DeAndre' Harris\, Gerardyne Drozdowski and Ga tan Gerville-R ache for a webinar on how to develop and implement a COVID-19 preparedness and response plan that will protect your employees and your business. We will discuss what to include in the plan to ensure compliance with Michigan Governor Whitmer's Stay Home\, Stay Safe Executive Order 2020-42. We will also discuss how to implement the plan to both minimize the risk of COVID-19 exposure to employees and reduce the company's exposure to liability for an outbreak of COVID-19 in the workplace.
X-ALT-DESC;FMTTYPE=text/html:<span style="font-size: 9pt\; font-family: Arial\, sans-serif\;">Join Warner attorneys DeAndre&rsquo\; Harris\, Gerardyne Drozdowski and Ga&euml\;tan Gerville-R&eacute\;ache for a webinar on how to develop and implement a COVID-19 preparedness and response plan that will protect your employees <em><b>and</b></em> your business. We will discuss what to include in the plan to ensure compliance with Michigan Governor Whitmer&rsquo\;s Stay Home\, Stay Safe Executive Order 2020-42. We will also discuss how to implement the plan to both minimize the risk of COVID-19 exposure to employees and reduce the company&rsquo\;s exposure to liability for an outbreak of COVID-19 in the workplace.</span>
LOCATION:Webinar
UID:e.3222.1667
SEQUENCE:3
DTSTAMP:20260424T052757Z
URL:https://www.apacc.net/events/details/how-to-develop-and-implement-covid-19-preparedness-and-response-plan-to-protect-your-employees-and-your-business-1667
END:VEVENT

END:VCALENDAR
