BEGIN:VCALENDAR
VERSION:2.0
PRODID:-//ChamberMaster//Event Calendar 2.0//EN
METHOD:PUBLISH
X-PUBLISHED-TTL:P3D
REFRESH-INTERVAL:P3D
CALSCALE:GREGORIAN
BEGIN:VEVENT
DTSTART:20180417T223000Z
DTEND:20180418T000000Z
X-MICROSOFT-CDO-ALLDAYEVENT:FALSE
SUMMARY:Henry Ford West Bloomfield Hospital Presents: It's Not Breakfast\, It's Not Lunch - It's Brunch!
DESCRIPTION:Skip the long wait at the local restaurants and make your loved ones a delicious and nutritious midday meal.  From savory egg dishes to breakfast bakes\, we've got everything you need to up your at-home brunch game\, just in time for Mother's Day.  Our chefs will demonstrate time saving recipes that will allow you to sleep in a little longer.
X-ALT-DESC;FMTTYPE=text/html:<span style="font-size:14px\;"><span style="font-family:arial\;">Skip the long wait at the local restaurants&nbsp\;and make your loved ones a delicious&nbsp\;and nutritious&nbsp\;midday meal.&nbsp\; From savory egg dishes to breakfast bakes\, we&#39\;ve got everything you need to up your at-home brunch game\, just in time for Mother&#39\;s Day.&nbsp\; Our chefs will demonstrate time saving recipes that will allow you to sleep in a little longer.&nbsp\;</span></span>
LOCATION:Henry Ford West Bloomfield Hospital 6777 W. Maple West Bloomfield\, MI 48322
UID:e.3222.23
SEQUENCE:3
DTSTAMP:20260421T083009Z
URL:https://www.apacc.net/events/details/henry-ford-west-bloomfield-hospital-presents-it-s-not-breakfast-it-s-not-lunch-it-s-brunch-23
END:VEVENT

END:VCALENDAR
