BEGIN:VCALENDAR
VERSION:2.0
PRODID:-//ChamberMaster//Event Calendar 2.0//EN
METHOD:PUBLISH
X-PUBLISHED-TTL:P3D
REFRESH-INTERVAL:P3D
CALSCALE:GREGORIAN
BEGIN:VEVENT
DTSTART:20200319T223000Z
DTEND:20200320T000000Z
X-MICROSOFT-CDO-ALLDAYEVENT:FALSE
SUMMARY:Henry Ford LiveWell - Mediterranean Night
DESCRIPTION:Not only is Mediterranean food visually appealing\, it is also tasty and healthy! Mediterranean dishes mainly feature whole grains\, healthier fats and lots of fruits and veggies. In this class\, you will learn about the techniques and various ingredients used to create classic Mediterranean dishes.
X-ALT-DESC;FMTTYPE=text/html:Not only is Mediterranean food visually appealing\, it is also tasty and healthy! Mediterranean dishes mainly feature whole grains\, healthier fats and lots of fruits and veggies. In this class\, you will learn about the techniques and various ingredients used to create classic Mediterranean dishes.
LOCATION:Demonstration Kitchen Henry Ford West Bloomfield Hospital 6777 W. Maple West Bloomfield\, MI 48322 View a Map
UID:e.3222.1611
SEQUENCE:3
DTSTAMP:20260423T222845Z
URL:https://www.apacc.net/events/details/henry-ford-livewell-mediterranean-night-1611
END:VEVENT

END:VCALENDAR
