BEGIN:VCALENDAR
VERSION:2.0
PRODID:-//ChamberMaster//Event Calendar 2.0//EN
METHOD:PUBLISH
X-PUBLISHED-TTL:P3D
REFRESH-INTERVAL:P3D
CALSCALE:GREGORIAN
BEGIN:VEVENT
DTSTART:20250415T200000Z
DTEND:20250415T220000Z
X-MICROSOFT-CDO-ALLDAYEVENT:FALSE
SUMMARY:Henry Ford Health - Kiewit Subcontractor Outreach Event
DESCRIPTION:Please join us to learn about upcoming contract opportunities for Henry Ford Health's Destination Grand - Central Energy Hub project and meet members of our project leadership team.\n\n\n\nClick Here to view Flyer
X-ALT-DESC;FMTTYPE=text/html:<br />\nPlease join us to learn about upcoming contract opportunities for Henry Ford Health&rsquo\;s Destination Grand - Central Energy Hub project and meet members of our project leadership team.<br />\n<br />\n<a href="https://chambermaster.blob.core.windows.net/userfiles/UserFiles/chambers/3222/File/HenryFordHealthOutreachFlyer250403amfs.pdf" target="_blank">Click Here to view Flyer</a><br />\n&nbsp\;
LOCATION:HENRY FORD HEALTH | ONE FORD PLACE GILMOUR AUDITORIUM | DETROIT\, MI 48202
UID:e.3222.2970
SEQUENCE:3
DTSTAMP:20260425T161631Z
URL:https://www.apacc.net/events/details/henry-ford-health-kiewit-subcontractor-outreach-event-2970
END:VEVENT

END:VCALENDAR
