BEGIN:VCALENDAR
VERSION:2.0
PRODID:-//ChamberMaster//Event Calendar 2.0//EN
METHOD:PUBLISH
X-PUBLISHED-TTL:P3D
REFRESH-INTERVAL:P3D
CALSCALE:GREGORIAN
BEGIN:VEVENT
DTSTART:20210505T160000Z
DTEND:20210505T170000Z
X-MICROSOFT-CDO-ALLDAYEVENT:FALSE
SUMMARY:Henry Ford and Asian Center - SE MI Presents Mental Health Seminar
DESCRIPTION:Henry Ford West Bloomfield Hospital has partnered with the Asian Center of Southeast Michigan to host the 2021 Asian American Health Expo. Under normal circumstances\, this event is hosted at Henry Ford West Bloomfield Hospital but due to COVID restrictions\, the event is going to be all virtual this year. Six sessions held through the month of May 2021\, this is their fifth Health Expo with the Asian Center - SE MI.\n\n\n\nAC-SE MI has teamed up with Henry Ford West Bloomfield Hospital to offer a health expo\, mainly for health education of current hot topics\, information cascading and demonstration\, usually no clinical services.  It is usually an opportunity for Asian ethnic community organizations to work together and invite some of their associates in health services to get together and share with each other too.\n\n\n\nTopic: Mental Health\n\n\n\nSpeaker: Chris Nixon\n\n                Administrative Director\, Maplegrove \n\n\n\nTo view the flyer\, please click here. A reminder email will be sent 3 days before the seminar.
X-ALT-DESC;FMTTYPE=text/html:<br />\n<br />\n<br />\nHenry Ford West Bloomfield Hospital has partnered with the Asian Center of Southeast Michigan to host the <strong>2021 Asian American Health Expo</strong>. Under normal circumstances\, this event is hosted at Henry Ford West Bloomfield Hospital but due to COVID restrictions\, the event is going to be all virtual this year. Six sessions held through the month of May 2021\, this is their fifth Health Expo with the Asian Center - SE MI.<br />\n<br />\nAC-SE MI has teamed up with Henry Ford West Bloomfield Hospital to offer a health expo\, mainly for health education of current hot topics\, information cascading and demonstration\, usually no clinical services.&nbsp\; It is usually an opportunity for Asian ethnic community organizations to work together and invite some of their associates in health services to get together and share with each other too.<br />\n<br />\n<strong>Topic:</strong> Mental Health<br />\n<br />\n<strong>Speaker:</strong> Chris Nixon<br />\n&nbsp\;&nbsp\;&nbsp\;&nbsp\;&nbsp\;&nbsp\;&nbsp\;&nbsp\;&nbsp\;&nbsp\;&nbsp\;&nbsp\;&nbsp\;&nbsp\;&nbsp\;&nbsp\;Administrative Director\, Maplegrove&nbsp\;<br />\n<br />\nTo view the flyer\, please click <a href="https://chambermaster.blob.core.windows.net/userfiles/UserFiles/chambers/3222/File/SeminarFlyer-041921.pdf" target="_blank">here</a>. A reminder email will be sent 3 days before the seminar.&nbsp\;
LOCATION:Virtual (Zoom)
UID:e.3222.2106
SEQUENCE:3
DTSTAMP:20260419T172616Z
URL:https://www.apacc.net/events/details/henry-ford-and-asian-center-se-mi-presents-mental-health-seminar-2106
END:VEVENT

END:VCALENDAR
