BEGIN:VCALENDAR
VERSION:2.0
PRODID:-//ChamberMaster//Event Calendar 2.0//EN
METHOD:PUBLISH
X-PUBLISHED-TTL:P3D
REFRESH-INTERVAL:P3D
CALSCALE:GREGORIAN
BEGIN:VEVENT
DTSTART:20180905T130000Z
DTEND:20180905T153000Z
X-MICROSOFT-CDO-ALLDAYEVENT:FALSE
SUMMARY:Going Pro Talent Funding
DESCRIPTION:Oakland County Businesses Can Apply for "Going Pro Talent Funding"\n\n\n\n(Oakland County Michigan Works\, Aug. 9\, 2018)\n\n\n\nWATERFORD\, MI.    Oakland County employers are encouraged to apply for nearly $30 million in training funds and resources to be used in 2019 through Michigan's new Going PRO Talent Fund\, formerly known as the Skilled Trades Training Fund.\n\n\n\nFunding is available for companies across the state who demonstrate a need for talent.\n\n\n\nOakland County Michigan Works! will host information sessions at the county's Executive Office Building Conference Center\, 2100 Pontiac Lake Road\, building 41 W\, to show private and non-profit businesses how to apply for the funds. There is no cost to attend these sessions\, but employers are required to register in advance at AdvantageOakland.EVENTBRITE.com. Sessions times and dates are:\n\n\n\nSept. 5\, 9:00   11:30 a.m.\n\n\n\nSept. 6\, 1:00   3:30 p.m.\n\n\n\nAs part of the application process\, Michigan Works! staff help companies develop training models that adapt to their changing needs. Short-term training leads to credentialed\, industry-recognized skills and the employers commit to retaining the trainees.
X-ALT-DESC;FMTTYPE=text/html:Oakland County Businesses Can Apply for &ldquo\;Going Pro Talent Funding&rdquo\;<br />\n<br />\n(Oakland County Michigan Works\, Aug. 9\, 2018)<br />\n<br />\nWATERFORD\, MI. &ndash\;&nbsp\; Oakland County employers are encouraged to apply for nearly $30 million in training funds and resources to be used in 2019 through Michigan&rsquo\;s new Going PRO Talent Fund\, formerly known as the Skilled Trades Training Fund.<br />\n<br />\nFunding is available for companies across the state who demonstrate a need for talent.<br />\n<br />\nOakland County Michigan Works! will host information sessions at the county&rsquo\;s Executive Office Building Conference Center\, 2100 Pontiac Lake Road\, building 41 W\, to show private and non-profit businesses how to apply for the funds. There is no cost to attend these sessions\, but employers are required to register in advance at AdvantageOakland.EVENTBRITE.com. Sessions times and dates are:<br />\n<br />\nSept. 5\, 9:00 &ndash\; 11:30 a.m.<br />\n<br />\nSept. 6\, 1:00 &ndash\; 3:30 p.m.<br />\n<br />\nAs part of the application process\, Michigan Works! staff help companies develop training models that adapt to their changing needs. Short-term training leads to credentialed\, industry-recognized skills and the employers commit to retaining the trainees.
LOCATION:Oakland County Executive Office Building Conference Center\, Building 41 W\, 2100 Pontiac Lake Rd Waterford Twp\, MI 48328
UID:e.3222.156
SEQUENCE:3
DTSTAMP:20260421T174706Z
URL:https://www.apacc.net/events/details/going-pro-talent-funding-156
END:VEVENT

END:VCALENDAR
