BEGIN:VCALENDAR
VERSION:2.0
PRODID:-//ChamberMaster//Event Calendar 2.0//EN
METHOD:PUBLISH
X-PUBLISHED-TTL:P3D
REFRESH-INTERVAL:P3D
CALSCALE:GREGORIAN
BEGIN:VEVENT
DTSTART:20210205T140000Z
DTEND:20210205T150000Z
X-MICROSOFT-CDO-ALLDAYEVENT:FALSE
SUMMARY:Free Application Fridays
DESCRIPTION:Apply and have your application fee waived on Free Application Friday. You can also attend a virtual session with an admissions advisor to learn more about: Why it is important to apply early Easy steps to apply Review your transcript for your on the spot admission decision Year round registration   Plan your schedule early and register now spring\, summer and fall classes in advance Step by step guidance on how to complete your application to have your application fee waived! Financial Aid and Scholarship opportunities Free Application Friday is available every Friday in February - May. RSVP for your preferred date.
X-ALT-DESC;FMTTYPE=text/html:<br />\nApply and have your application fee waived on Free Application Friday. You can also attend a virtual session with an admissions advisor to learn more about: Why it is important to apply early Easy steps to apply Review your transcript for your on the spot admission decision Year round registration &ndash\; Plan your schedule early and register now spring\, summer and fall classes in advance Step by step guidance on how to complete your application to have your application fee waived! Financial Aid and Scholarship opportunities Free Application Friday is available every Friday in February - May. RSVP for your preferred date.
LOCATION:Virtual
UID:e.3222.2056
SEQUENCE:3
DTSTAMP:20260424T070820Z
URL:https://www.apacc.net/events/details/free-application-fridays-2056
END:VEVENT

END:VCALENDAR
