BEGIN:VCALENDAR
VERSION:2.0
PRODID:-//ChamberMaster//Event Calendar 2.0//EN
METHOD:PUBLISH
X-PUBLISHED-TTL:P3D
REFRESH-INTERVAL:P3D
CALSCALE:GREGORIAN
BEGIN:VEVENT
DTSTART:20201207T183000Z
DTEND:20201207T190000Z
X-MICROSOFT-CDO-ALLDAYEVENT:FALSE
SUMMARY:Financial Assistance for Macomb County Individuals and Families
DESCRIPTION:Please join Macomb County for their second webinar in the financial resources series: Good Shepherd Coalition (GSC)\n\n\n\nWhat will you learn in the webinar: \n\n	History of the formation of the Coalition \n	Criteria for membership in the Coalition \n	What and where to refer a client in need \n	GSC 's  online cloud database that allows clients\, school social  workers\, and churches to actively work\, refer\, seek\, or review  assistance \n	Future plans for our/their website and database in 2021 \n	Questions and answers\n\nNo registration required.\n\nGet Zoom link on flyer here
X-ALT-DESC;FMTTYPE=text/html:<br />\nPlease join Macomb County for their second webinar in the financial resources series: Good Shepherd Coalition (GSC)<br />\n<br />\nWhat will you learn in the webinar:&nbsp\;\n<ul>\n	<li>History of the formation of the Coalition&nbsp\;</li>\n	<li>Criteria for membership in the Coalition&nbsp\;</li>\n	<li>What and where to refer a client in need&nbsp\;</li>\n	<li>GSC &rsquo\;s&nbsp\; online cloud database that allows clients\, school social&nbsp\; workers\, and churches to actively work\, refer\, seek\, or review&nbsp\; assistance&nbsp\;</li>\n	<li>Future plans for our/their website and database in 2021&nbsp\;</li>\n	<li>Questions and answers</li>\n</ul>\nNo registration required.<br />\n<a href="https://chambermaster.blob.core.windows.net/userfiles/UserFiles/chambers/3222/File/GoodShepherdCoalition.pdf" target="_blank">Get Zoom link on flyer here</a>
LOCATION:Webinar by Macomb County
UID:e.3222.2017
SEQUENCE:3
DTSTAMP:20260422T004830Z
URL:https://www.apacc.net/events/details/financial-assistance-for-macomb-county-individuals-and-families-2017
END:VEVENT

END:VCALENDAR
