BEGIN:VCALENDAR
VERSION:2.0
PRODID:-//ChamberMaster//Event Calendar 2.0//EN
METHOD:PUBLISH
X-PUBLISHED-TTL:P3D
REFRESH-INTERVAL:P3D
CALSCALE:GREGORIAN
BEGIN:VEVENT
DTSTART:20210216T223000Z
DTEND:20210216T230000Z
X-MICROSOFT-CDO-ALLDAYEVENT:FALSE
SUMMARY:Financial Aid & Scholarship Virtual Info Session
DESCRIPTION:Walsh is here to help you with options to assist in paying for your Walsh degree. Most transfer students attending Walsh save over $40\,000 in tuition costs with our transfer partnerships and financial aid opportunities. Attend a virtual information session to learn about resources to help you afford your Walsh degree: What is Financial Aid and how do I apply? Student loans are not your only option   Walsh also offers grants and scholarships Learn about a variety of scholarships available and the easy application process Why you should apply for admission and Financial Aid early Concurrent enrollment options to save on tuition costs\, allowing you to transfer up to 82-90 credits from a community college Use a Consortium Agreement to maximize your financial aid options when attending a community college and Walsh at the same time.
X-ALT-DESC;FMTTYPE=text/html:<br />\nWalsh is here to help you with options to assist in paying for your Walsh degree. Most transfer students attending Walsh save over $40\,000 in tuition costs with our transfer partnerships and financial aid opportunities. Attend a virtual information session to learn about resources to help you afford your Walsh degree: What is Financial Aid and how do I apply? Student loans are not your only option &ndash\; Walsh also offers grants and scholarships Learn about a variety of scholarships available and the easy application process Why you should apply for admission and Financial Aid early Concurrent enrollment options to save on tuition costs\, allowing you to transfer up to 82-90 credits from a community college Use a Consortium Agreement to maximize your financial aid options when attending a community college and Walsh at the same time.
LOCATION:Virtual
UID:e.3222.2058
SEQUENCE:3
DTSTAMP:20260424T012442Z
URL:https://www.apacc.net/events/details/financial-aid-scholarship-virtual-info-session-2058
END:VEVENT

END:VCALENDAR
