BEGIN:VCALENDAR
VERSION:2.0
PRODID:-//ChamberMaster//Event Calendar 2.0//EN
METHOD:PUBLISH
X-PUBLISHED-TTL:P3D
REFRESH-INTERVAL:P3D
CALSCALE:GREGORIAN
BEGIN:VEVENT
DTSTART:20210202T190000Z
DTEND:20210202T200000Z
X-MICROSOFT-CDO-ALLDAYEVENT:FALSE
SUMMARY:Fifth Third Bank presents The Pandemic and Beyond: An Economic Assessment
DESCRIPTION:Please join us for a virtual gathering where Jeff Korzenik\, Chief Investment Strategist at Fifth Third Bank\, will share an assessment on the following:\n\n	Current state of the U.S. economy: differences and similarities with past downturns\n	The impact of monetary and fiscal intervention\n	Health risks and unintended consequences\n	The post pandemic economy: disrupted industries\, disrupted geographies\, and other trends\n\nPresenter\n\nJeff Korzenik\, Chief Investment Strategist\, Fifth Third Bank\n\nFrequent guest on Fox Business News\, CNBC and Bloomberg
X-ALT-DESC;FMTTYPE=text/html:<br />\nPlease join us for a virtual gathering where Jeff Korzenik\, Chief Investment Strategist at Fifth Third Bank\, will share an assessment on the following:\n<ul>\n	<li>Current state of the U.S. economy: differences and similarities with past downturns</li>\n	<li>The impact of monetary and fiscal intervention</li>\n	<li>Health risks and unintended consequences</li>\n	<li>The post pandemic economy: disrupted industries\, disrupted geographies\, and other trends</li>\n</ul>\n<strong>Presenter<br />\nJeff Korzenik</strong>\, Chief Investment Strategist\, Fifth Third Bank<br />\n<strong>Frequent guest on Fox Business News\, CNBC and Bloomberg</strong>
LOCATION:Virtual
UID:e.3222.2045
SEQUENCE:3
DTSTAMP:20260424T011324Z
URL:https://www.apacc.net/events/details/fifth-third-bank-presents-the-pandemic-and-beyond-an-economic-assessment-2045
END:VEVENT

END:VCALENDAR
