BEGIN:VCALENDAR
VERSION:2.0
PRODID:-//ChamberMaster//Event Calendar 2.0//EN
METHOD:PUBLISH
X-PUBLISHED-TTL:P3D
REFRESH-INTERVAL:P3D
CALSCALE:GREGORIAN
BEGIN:VEVENT
DTSTART:20200422T153000Z
DTEND:20200422T180000Z
X-MICROSOFT-CDO-ALLDAYEVENT:FALSE
SUMMARY:ExpressTalks Celebrity Edition
DESCRIPTION:JOIN US FOR THE LEADERSHIP EVENT OF THE YEAR!\n\n\n\nSchoolcraft College Business Development Center on behalf of Express Employment Professionals is excited to share a business leader event featuring Simon Sinek and Dr. Amy Cuddy. \n\n\n\nExpress Employment Professionals is excited to bring two dynamic speakers who will offer business insight\, motivation\, and leadership advice to help you become a better leader. You won't want to miss this one-of-a-kind leadership event! \n\n\n\nFree to view from your personal computer\n\nProgram length is 2.5 hours (10 minute intermission)\n\nPreapproved for SHRM\, HRCI\, and HRPA credits\n\n\n\nAchieve Success by Thinking of Life and Business as an Infinite Game\n\n\n\nSimon Sinek - Optimist\, Best-Selling Author\, and Leadership Expert\n\n\n\nAs the award-winning author of the leadership book "The Infinite Game\," Simon will journey through an infinite mindset and unlock a new way to perceive business success. "The only true competitor in an infinite game\, is ourselves."\n\n\n\nPresence: Bring Your Boldest Self to Your Biggest Challenges\n\n\n\nDr. Amy Cuddy - Social Psychologist\, Best-Selling Author\, and Award-Winning Harvard Lecturer\n\n\n\nKnown for coining the phrase "fake it 'til you become it\," Amy uses cutting-edge science to reveal that if we adopt behaviors reflecting power and strength\, we free ourselves to be our best.
X-ALT-DESC;FMTTYPE=text/html:<strong>JOIN US FOR THE LEADERSHIP EVENT OF THE YEAR!</strong><br />\n<br />\n<strong>Schoolcraft College Business Development Center</strong> on behalf of Express Employment Professionals is excited to share a business leader event featuring Simon Sinek and Dr. Amy Cuddy.&nbsp\;<br />\n<br />\nExpress Employment Professionals is excited to bring two dynamic speakers who will offer business insight\, motivation\, and leadership advice to help you become a better leader. You won&rsquo\;t want to miss this one-of-a-kind leadership event!&nbsp\;<br />\n<br />\nFree to view from your personal computer<br />\nProgram length is 2.5 hours (10 minute intermission)<br />\nPreapproved for SHRM\, HRCI\, and HRPA credits<br />\n<br />\n<strong>Achieve Success by Thinking of Life and Business as an Infinite Game</strong><br />\n<br />\n<strong>Simon Sinek</strong> - Optimist\, Best-Selling Author\, and Leadership Expert<br />\n<br />\nAs the award-winning author of the leadership book &quot\;The Infinite Game\,&quot\; Simon will journey through an infinite mindset and unlock a new way to perceive business success. &quot\;The only true competitor in an infinite game\, is ourselves.&quot\;<br />\n<br />\n<strong>Presence: Bring Your Boldest Self to Your Biggest Challenges</strong><br />\n<br />\n<strong>Dr. Amy Cuddy</strong> - Social Psychologist\, Best-Selling Author\, and Award-Winning Harvard Lecturer<br />\n<br />\nKnown for coining the phrase &quot\;fake it &#39\;til you become it\,&quot\; Amy uses cutting-edge science to reveal that if we adopt behaviors reflecting power and strength\, we free ourselves to be our best.<br />\n
LOCATION:Webinar
UID:e.3222.1694
SEQUENCE:3
DTSTAMP:20260422T112945Z
URL:https://www.apacc.net/events/details/expresstalks-celebrity-edition-1694
END:VEVENT

END:VCALENDAR
