BEGIN:VCALENDAR
VERSION:2.0
PRODID:-//ChamberMaster//Event Calendar 2.0//EN
METHOD:PUBLISH
X-PUBLISHED-TTL:P3D
REFRESH-INTERVAL:P3D
CALSCALE:GREGORIAN
BEGIN:VEVENT
DTSTART:20200723T163000Z
DTEND:20200723T173000Z
X-MICROSOFT-CDO-ALLDAYEVENT:FALSE
SUMMARY:Expanding Global Opportunities For Minority & Women-Owned Business During COVID-19
DESCRIPTION:Please join the Tri-County Regional Black Chamber of Commerce (Houston\, TX)\, U.S. Small Business Administration (SBA)\, along with the Export-Import Bank of the United States (EXIM) for a discussion about export financing tools\, entrepreneurial programs and services to help small businesses expand internationally and grow global revenue\, CARES and COVID-19 debt relief updates. \n\n\n\nDiscussions for this virtual webinar include: \n\n	Tri-County Regional Black Chamber of Commerce International Services and Programs\n	Updates on SBA Disaster Assistance (EIDL) and CARES Act Debt Relief\n	SBA Export Financing Tool\n	EXIM Trade Finance Tools and COVID-19 Relief Measure
X-ALT-DESC;FMTTYPE=text/html:Please join the <a href="https://tricountyregionalblackchamber.org/?utm_campaign=MWOB&amp\;utm_medium=email&amp\;_hsmi=90786611&amp\;_hsenc=p2ANqtz--gxC-3Nji29-9RlhZ2VXVZOMOkrcSBf3ykmKGSWbrtDYchCl49xchCIJ02Gn8hhuoKSGA1s8TIh-9Uf2mBqq96dxKqMA&amp\;utm_content=90688323&amp\;utm_source=hs_email" target="_blank">Tri-County Regional Black Chamber of Commerce (Houston\, TX)</a>\, <a href="https://www.sba.gov/offices/headquarters/oit?utm_campaign=MWOB&amp\;utm_medium=email&amp\;_hsmi=90786611&amp\;_hsenc=p2ANqtz-9DmP9I1BPb-_YALgZe6e43wVHVGrmTCYFO489RTdgy_WWpENv6kb5ddkkMiuhThsEpIziWyFNf5Qp4jSueyALD3gincg&amp\;utm_content=90688323&amp\;utm_source=hs_email" target="_blank">U.S. Small Business Administration (SBA)</a>\, along with the <a href="https://www.exim.gov/?utm_campaign=MWOB&amp\;utm_medium=email&amp\;_hsmi=90786611&amp\;_hsenc=p2ANqtz--VuCEDI70V22X25udkttENKIHm-SG_1zVvPQSt7jP6GXZAyjo7VIgnZACX8TRLouM5x28dL9iPn0v2OL46uhGXPq1naQ&amp\;utm_content=90688323&amp\;utm_source=hs_email" target="_blank">Export-Import Bank of the United States (EXIM)</a> for a discussion about export financing tools\, entrepreneurial programs and services to help small businesses expand internationally and grow global revenue\, CARES and COVID-19 debt relief updates.&nbsp\;<br />\n<br />\nDiscussions for this virtual webinar include:&nbsp\;\n<ul>\n	<li>Tri-County Regional Black Chamber of Commerce International Services and Programs</li>\n	<li>Updates on SBA Disaster Assistance (EIDL) and CARES Act Debt Relief</li>\n	<li>SBA Export Financing Tool</li>\n	<li>EXIM Trade Finance Tools and COVID-19 Relief Measure</li>\n</ul>\n
LOCATION:Webinar by EXIM Bank
UID:e.3222.1857
SEQUENCE:3
DTSTAMP:20260422T070224Z
URL:https://www.apacc.net/events/details/expanding-global-opportunities-for-minority-women-owned-business-during-covid-19-1857
END:VEVENT

END:VCALENDAR
