BEGIN:VCALENDAR
VERSION:2.0
PRODID:-//ChamberMaster//Event Calendar 2.0//EN
METHOD:PUBLISH
X-PUBLISHED-TTL:P3D
REFRESH-INTERVAL:P3D
CALSCALE:GREGORIAN
BEGIN:VEVENT
DTSTART:20200909T130000Z
DTEND:20200911T210000Z
X-MICROSOFT-CDO-ALLDAYEVENT:FALSE
SUMMARY:EXIM 2020 Annual Conference - Take Your Small Business Global
DESCRIPTION:The EXIM Annual Conference is the premier opportunity to network with peers\, hear from talented speakers\, EXIM staff\, and potential buyers. \n\n \n\nConference Highlights: \n\n	Learn about EXIM's new and existing tools to help your business successfully export.\n	A new virtual platform that will be interactive and facilitate the same great sessions\, speakers\, and exhibitors.\n	A small business track to increase participation from businesses\, who might not have been able to send a representative to D.C. in the past.\n	Only $150 for small business attendees!\n\n\n\nVIEW EVENT DETAILS
X-ALT-DESC;FMTTYPE=text/html:The EXIM Annual Conference is the premier opportunity to network with peers\, hear from talented speakers\, EXIM staff\, and potential buyers.&nbsp\;<br />\n&nbsp\;<br />\nConference Highlights:&nbsp\;\n<ul>\n	<li>Learn about EXIM&rsquo\;s new and existing tools to help your business successfully export.</li>\n	<li>A new virtual platform that will be interactive and facilitate the same great sessions\, speakers\, and exhibitors.</li>\n	<li>A small business track to increase participation from businesses\, who might not have been able to send a representative to D.C. in the past.</li>\n	<li>Only $150 for small business attendees!</li>\n</ul>\n<br />\n<a href="https://www.exim.gov/events/annual-conferences/2020?utm_medium=email&amp\;_hsmi=92958498&amp\;_hsenc=p2ANqtz-8n57N-M39JQanXRFOxXXZIgEbUwq58oCW9_B4whDRD54wCW04IsU4-4DDXk06vwQRjnvzvDwJhNHVj7IOQrsZfNq6WJw&amp\;utm_content=92956666&amp\;utm_source=hs_email" target="_blank">VIEW EVENT DETAILS</a>
LOCATION:Virtual EXIM Conference
UID:e.3222.1926
SEQUENCE:3
DTSTAMP:20260423T013304Z
URL:https://www.apacc.net/events/details/exim-2020-annual-conference-take-your-small-business-global-1926
END:VEVENT

END:VCALENDAR
