BEGIN:VCALENDAR
VERSION:2.0
PRODID:-//ChamberMaster//Event Calendar 2.0//EN
METHOD:PUBLISH
X-PUBLISHED-TTL:P3D
REFRESH-INTERVAL:P3D
CALSCALE:GREGORIAN
BEGIN:VEVENT
DTSTART:20181104T180000Z
DTEND:20181104T220000Z
X-MICROSOFT-CDO-ALLDAYEVENT:FALSE
SUMMARY:Exhibition of "An Accidental Photographer: Seoul 1969"
DESCRIPTION:"An Accidental Photographer: Seoul 1969" features the photography of Dr. Margaret Condon Taylor\, who captured these images while in Seoul as a Peace Corps volunteer. The photographs offer glimpses into the changing scenes of ordinary Korean life during a period of rapid modernization. This exhibition was first displayed at the Institute for the Humanities at the University of Michigan\, where Dr. Taylor is an alumna\, marking the first public showing of these photographs in nearly fifty years.
X-ALT-DESC;FMTTYPE=text/html:&quot\;An Accidental Photographer: Seoul 1969&quot\; features the photography of Dr. Margaret Condon Taylor\, who captured these images while in Seoul as a Peace Corps volunteer. The photographs offer&nbsp\;glimpses into the changing scenes of ordinary Korean life during a period of rapid modernization. This exhibition was first displayed at the Institute for the Humanities at the University of Michigan\, where Dr. Taylor is an alumna\, marking the first public showing of these photographs in nearly fifty&nbsp\;years.
LOCATION:Charles Lang Freer House 71 East Ferry Avenue Detroit\, MI 48202
UID:e.3222.161
SEQUENCE:3
DTSTAMP:20260423T180846Z
URL:https://www.apacc.net/events/details/exhibition-of-an-accidental-photographer-seoul-1969-161
END:VEVENT

END:VCALENDAR
