BEGIN:VCALENDAR
VERSION:2.0
PRODID:-//ChamberMaster//Event Calendar 2.0//EN
METHOD:PUBLISH
X-PUBLISHED-TTL:P3D
REFRESH-INTERVAL:P3D
CALSCALE:GREGORIAN
BEGIN:VEVENT
DTSTART:20201209T180000Z
DTEND:20201209T190000Z
X-MICROSOFT-CDO-ALLDAYEVENT:FALSE
SUMMARY:Ergonomics & Managing the Physical Stress of Working from Home
DESCRIPTION:As we enter the winter months and much of our team continues to work remote\, this remains an important issue for you and your workforce. Implementing proper ergonomic resolutions can help make employees more comfortable and increase efficiency. Ergonomics is significant because when your body is stressed or anxious by an uncomfortable posture it can affect your mental and physical wellbeing.\n\n\n\nIn this session\, we will provide information regarding:\n\n	Home office ergonomics\n	Alternative workstations\n	Stretching for the office setting\n	How employers are addressing employees' needs\n	What it looks like when your team returns to the workplace\n\nWe look forward to sharing ways to support your musculoskeletal system\, while touching on the basics of the connection between physical stress and your overall health.\n\n\n\nOur Speakers: We are tackling this complex issue with the help of perspectives from four professionals. The team includes:\n\n	Shane Collins\, MEHS CEES\, Safety Consultant with Marsh & McLennan Agency\n	Lauren Kucyk\, GSP\, LIC\, Risk Consultant with Marsh & McLennan Agency\n	Howard Rush\, Interiors Specialist\, Nextech Business Interiors\n	Dan Terry\, Account Executive\, Nextech Business Interiors
X-ALT-DESC;FMTTYPE=text/html:<br />\nAs we enter the winter months and much of our team continues to work remote\, this remains an important issue for you and your workforce. Implementing proper ergonomic resolutions can help make employees more comfortable and increase efficiency. Ergonomics is significant because when your body is stressed or anxious by an uncomfortable posture it can affect your mental and physical wellbeing.<br />\n<br />\nIn this session\, we will provide information regarding:\n<ul>\n	<li>Home office ergonomics</li>\n	<li>Alternative workstations</li>\n	<li>Stretching for the office setting</li>\n	<li>How employers are addressing employees&#39\; needs</li>\n	<li>What it looks like when your team returns to the workplace</li>\n</ul>\nWe look forward to sharing ways to support your musculoskeletal system\, while touching on the basics of the connection between physical stress and your overall health.<br />\n<br />\nOur Speakers: We are tackling this complex issue with the help of perspectives from four professionals. The team includes:\n<ul>\n	<li>Shane Collins\, MEHS CEES\, Safety Consultant with Marsh &amp\; McLennan Agency</li>\n	<li>Lauren Kucyk\, GSP\, LIC\, Risk Consultant with Marsh &amp\; McLennan Agency</li>\n	<li>Howard Rush\, Interiors Specialist\, Nextech Business Interiors</li>\n	<li>Dan Terry\, Account Executive\, Nextech Business Interiors</li>\n</ul>\n
LOCATION:Webinar by MARSH & McLENNAN Agency
UID:e.3222.2019
SEQUENCE:3
DTSTAMP:20260424T025533Z
URL:https://www.apacc.net/events/details/ergonomics-managing-the-physical-stress-of-working-from-home-2019
END:VEVENT

END:VCALENDAR
