BEGIN:VCALENDAR
VERSION:2.0
PRODID:-//ChamberMaster//Event Calendar 2.0//EN
METHOD:PUBLISH
X-PUBLISHED-TTL:P3D
REFRESH-INTERVAL:P3D
CALSCALE:GREGORIAN
BEGIN:VEVENT
DTSTART:20190215T183000Z
DTEND:20190215T203000Z
X-MICROSOFT-CDO-ALLDAYEVENT:FALSE
SUMMARY:ENGERGIZE Your 2019 Diversity Initiatives
DESCRIPTION:Experience a NEW diversity & inclusion training that will satisfy these questions and more. We've leveraged our technical expertise and created a unique training tool to educate\, elevate\, and effectuate REAL cultural change in organizations of all types and sizes.\n\n\n\nOur training is precisely engineered for members at any level of your organization. From executive to entry level and for long time employees to new hires\, this unique experience engages and challenges individuals and groups to overcome limiting beliefs and about what diversity truly means.\n\n\n\nIf your organization values DIVERSITY\, this is an event you won't want to miss!
X-ALT-DESC;FMTTYPE=text/html:Experience a NEW diversity &amp\; inclusion training that will satisfy these questions and more. We&rsquo\;ve leveraged our technical expertise and created a unique training tool to educate\, elevate\, and effectuate REAL cultural change in organizations of all types and sizes.<br />\n<br />\nOur training is precisely engineered for members at any level of your organization. From executive to entry level and for long time employees to new hires\, this unique experience engages and challenges individuals and groups to overcome limiting beliefs and about what diversity truly means.<br />\n<br />\nIf your organization values DIVERSITY\, this is an event you won&#39\;t want to miss!
LOCATION:Michgan Minority Supplier Diversity Council 100 River Place #300 Detroit\, MI 48207
UID:e.3222.326
SEQUENCE:3
DTSTAMP:20260422T125954Z
URL:https://www.apacc.net/events/details/engergize-your-2019-diversity-initiatives-326
END:VEVENT

END:VCALENDAR
