BEGIN:VCALENDAR
VERSION:2.0
PRODID:-//ChamberMaster//Event Calendar 2.0//EN
METHOD:PUBLISH
X-PUBLISHED-TTL:P3D
REFRESH-INTERVAL:P3D
CALSCALE:GREGORIAN
BEGIN:VEVENT
DTSTART:20200901T150000Z
DTEND:20200901T160000Z
X-MICROSOFT-CDO-ALLDAYEVENT:FALSE
SUMMARY:Elements of Creative Marketing in the Wake of Changing Global Demographics
DESCRIPTION:MEDC's India trade center representative\, Sushama Kanetkar\, CEO\, SRK and Associates\, and Africa trade center representative\, Richard Zurba\, CEO\, Zurcom International\, sit down to explore how companies can adapt to changing global demographics with creative marketing in the second session of IBG's bi-weekly practical discussions. Join the conversation to learn what your company can do to engage your international customers. Sessions are free but require advance registration.\n\n\n\n\n\nIn dialogue:\n\n	Tony Aggarwal\, CEO\, Kinetic Cubed\, London \n	Angela Foley\, CEO\, Foley & Associates Pty Ltd.\, Sydney\n	Richard Zurba\, CEO\, Zurcom International\, Pretoria
X-ALT-DESC;FMTTYPE=text/html:MEDC&rsquo\;s India trade center representative\, Sushama Kanetkar\, CEO\, SRK and Associates\, and Africa trade center representative\, Richard Zurba\, CEO\, Zurcom International\, sit down to explore how companies can adapt to changing global demographics with creative marketing in the second session of IBG&rsquo\;s bi-weekly practical discussions. Join the conversation to learn what your company can do to engage your international customers. Sessions are free but require advance registration.<br />\n<br />\n<br />\nIn dialogue:\n<ul>\n	<li>Tony Aggarwal\, CEO\, Kinetic Cubed\, London&nbsp\;</li>\n	<li>Angela Foley\, CEO\, Foley &amp\; Associates Pty Ltd.\, Sydney</li>\n	<li>Richard Zurba\, CEO\, Zurcom International\, Pretoria</li>\n</ul>\n
LOCATION:Virtual
UID:e.3222.1928
SEQUENCE:3
DTSTAMP:20260421T161615Z
URL:https://www.apacc.net/events/details/elements-of-creative-marketing-in-the-wake-of-changing-global-demographics-1928
END:VEVENT

END:VCALENDAR
