BEGIN:VCALENDAR
VERSION:2.0
PRODID:-//ChamberMaster//Event Calendar 2.0//EN
METHOD:PUBLISH
X-PUBLISHED-TTL:P3D
REFRESH-INTERVAL:P3D
CALSCALE:GREGORIAN
BEGIN:VEVENT
DTSTART:20200506T190000Z
DTEND:20200506T201500Z
X-MICROSOFT-CDO-ALLDAYEVENT:FALSE
SUMMARY:Economic Development - Strategic Plan Stakeholder Engagement
DESCRIPTION:Oakland County Michigan Economic Development presents\n\nStrategic Plan Stakeholder Engagement\n\n\n\nCOVID-19 IMPACT\n\n\nYour knowledge and recommendations remain an important part of Oakland County's economic strategic planning. Please participate in one of the upcoming virtual town hall meetings to share your thoughts on the current and longer-term impacts of COVID-19 on our  economy.\n\n\n\nEach town hall is identical and will be hosted by TIP Strategies\, Oakland County's strategic planning\n\nconsultant. The sessions are limited to 30 people each and will last no longer than 75 minutes.
X-ALT-DESC;FMTTYPE=text/html:<div style="text-align: center\;"><strong>Oakland County Michigan Economic Development</strong> <strong>presents<br />\nStrategic Plan Stakeholder Engagement</strong><br />\n<br />\n<strong>COVID-19 IMPACT</strong></div>\n<br />\nYour knowledge and recommendations remain an important part of Oakland County&rsquo\;s economic strategic planning. Please participate in one of the upcoming virtual town hall meetings to share your thoughts on the current and longer-term impacts of COVID-19 on our&nbsp\; economy.<br />\n<br />\nEach town hall is identical and will be hosted by TIP Strategies\, Oakland County&rsquo\;s strategic planning<br />\nconsultant. The sessions are limited to 30 people each and will last no longer than 75 minutes.
LOCATION:Webinar by Oakland County Economic Development
UID:e.3222.1712
SEQUENCE:3
DTSTAMP:20260423T190807Z
URL:https://www.apacc.net/events/details/economic-development-strategic-plan-stakeholder-engagement-1712
END:VEVENT

END:VCALENDAR
