BEGIN:VCALENDAR
VERSION:2.0
PRODID:-//ChamberMaster//Event Calendar 2.0//EN
METHOD:PUBLISH
X-PUBLISHED-TTL:P3D
REFRESH-INTERVAL:P3D
CALSCALE:GREGORIAN
BEGIN:VEVENT
DTSTART:20200617T180000Z
DTEND:20200617T190000Z
X-MICROSOFT-CDO-ALLDAYEVENT:FALSE
SUMMARY:eCommerce Globalization Strategies: Overcome Digital Roadblocks (Part 2 of 3)
DESCRIPTION:Organized by the U.S. Commercial Service eCommerce Innovation Lab\, this three-part series will feature ways to increase your competitiveness in overseas markets by transitioning your website to support online sales channels.\n\n\n\nSecond installment of our webinar series\, we'll help you prepare for and overcome digital roadblocks\, including international tax laws\, emerging regulations impacting online sales\, and managing the user experience (UX). \n\n	Learn how to optimize international transactions for higher cart conversion. Reduce chargebacks (by up to 80%) and limit fraud losses - which is a much higher risk on international transactions - through advanced data capture.\n	Build trust with international buyers by providing cost transparency for VAT tax\, duties\, global compliance management and language/currency localization.\n	Develop cost efficient ways to access top international duty and tax expertise.
X-ALT-DESC;FMTTYPE=text/html:Organized by the U.S. Commercial Service eCommerce Innovation Lab\, this three-part series will feature ways to increase your competitiveness in overseas markets by transitioning your website to support online sales channels.<br />\n<br />\nSecond installment of our webinar series\, we&#39\;ll help you prepare for and overcome digital roadblocks\, including international tax laws\, emerging regulations impacting online sales\, and managing the user experience (UX).&nbsp\;\n<ul>\n	<li>Learn how to optimize international transactions for higher cart conversion. Reduce chargebacks (by up to 80%) and limit fraud losses - which is a much higher risk on international transactions - through advanced data capture.</li>\n	<li>Build trust with international buyers by providing cost transparency for VAT tax\, duties\, global compliance management and language/currency localization.</li>\n	<li>Develop cost efficient ways to access top international duty and tax expertise.</li>\n</ul>\n
LOCATION:Webinar by U.S. Commercial Service
UID:e.3222.1810
SEQUENCE:3
DTSTAMP:20260422T101412Z
URL:https://www.apacc.net/events/details/ecommerce-globalization-strategies-overcome-digital-roadblocks-part-2-of-3-1810
END:VEVENT

END:VCALENDAR
