BEGIN:VCALENDAR
VERSION:2.0
PRODID:-//ChamberMaster//Event Calendar 2.0//EN
METHOD:PUBLISH
X-PUBLISHED-TTL:P3D
REFRESH-INTERVAL:P3D
CALSCALE:GREGORIAN
BEGIN:VEVENT
DTSTART:20200610T180000Z
DTEND:20200610T190000Z
X-MICROSOFT-CDO-ALLDAYEVENT:FALSE
SUMMARY:eCommerce Globalization Strategies: Five Steps to A Digital Strategy (Part 1 of 3)
DESCRIPTION:Global cross-border eCommerce sales alone total some $2 trillion annually and are expected to exceed $6 trillion by 2021. \n\n\n\nAre you ready to take advantage of growing international sales opportunities?\n\n\n\nOrganized by the U.S. Commercial Service eCommerce Innovation Lab\, this three-part series will feature ways to increase your competitiveness in overseas markets by transitioning your website to support online sales channels.\n\n \n\nSession 1: Five Steps of a Digital Strategy\n\nJoin commercial experts for a webinar on June 10th to learn how to develop a digital strategy that addresses the basic needs required to succeed in cross-border eCommerce sales channels. This webinar will cover the five steps to a digital strategy and how to keep you ahead of the curve in a 21st century digital economy. \n\n	Learn how to position your company for long term success and increase your competitiveness in overseas markets in the online virtual environment.\n	Utilize tools and resources to support your company's digital transformation for overseas sales through the eCommerce sales channels.\n\nRegister for the other two series below:\n\n\n\nJune 17\, 2020: Overcome Digital Roadblocks\n\n\n\nJune 24\, 2020: eCommerce Channel Mix
X-ALT-DESC;FMTTYPE=text/html:Global cross-border eCommerce sales alone total some $2 trillion annually and are expected to exceed $6 trillion by 2021.&nbsp\;<br />\n<br />\nAre you ready to take advantage of growing international sales opportunities?<br />\n<br />\nOrganized by the U.S. Commercial Service eCommerce Innovation Lab\, this three-part series will feature ways to increase your competitiveness in overseas markets by transitioning your website to support online sales channels.<br />\n&nbsp\;<br />\n<strong>Session 1: Five Steps of a Digital Strategy</strong><br />\nJoin commercial experts for a webinar on June 10th to learn how to develop a digital strategy that addresses the basic needs required to succeed in cross-border eCommerce sales channels. This webinar will cover the five steps to a digital strategy and how to keep you ahead of the curve in a 21st century digital economy.&nbsp\;\n<ul>\n	<li>Learn how to position your company for long term success and increase your competitiveness in overseas markets in the online virtual environment.</li>\n	<li>Utilize tools and resources to support your company&rsquo\;s digital transformation for overseas sales through the eCommerce sales channels.</li>\n</ul>\n<strong>Register for the other two series below</strong>:<br />\n<br />\n<strong>June 17\, 2020</strong>: <a href="https://www.apacc.net/events/details/ecommerce-globalization-strategies-overcome-digital-roadblocks-part-2-of-3-1810?calendarMonth=2020-06-01" target="_blank">Overcome Digital Roadblocks</a><br />\n<br />\n<strong>June 24\, 2020</strong>: <a href="https://www.apacc.net/events/details/ecommerce-globalization-strategies-ecommerce-channel-mix-part-3-of-3-1811?calendarMonth=2020-06-01" target="_blank">eCommerce Channel Mix</a>
LOCATION:Webinar by U.S. Commercial Service
UID:e.3222.1809
SEQUENCE:3
DTSTAMP:20260422T113641Z
URL:https://www.apacc.net/events/details/ecommerce-globalization-strategies-five-steps-to-a-digital-strategy-part-1-of-3-1809
END:VEVENT

END:VCALENDAR
