BEGIN:VCALENDAR
VERSION:2.0
PRODID:-//ChamberMaster//Event Calendar 2.0//EN
METHOD:PUBLISH
X-PUBLISHED-TTL:P3D
REFRESH-INTERVAL:P3D
CALSCALE:GREGORIAN
BEGIN:VEVENT
DTSTART:20200827T200000Z
DTEND:20200827T210000Z
X-MICROSOFT-CDO-ALLDAYEVENT:FALSE
SUMMARY:E-Commerce Webinar
DESCRIPTION:The Chinese General Chamber of Commerce USA - Chicago (CGCC Chicago) invites you to participate in an E-Commerce information session on August 27\, 2020. TMall Global's B2C (Alibaba's dedicated channel for cross-border e-commerce) platform currently engages 800 million+ active monthly mobile users in the ecosystem as they build the future infrastructure in helping merchants\, brands\, and small businesses reach new horizons in cross-border commerce. In this webinar\, find out how they do it.\n\n\n\nClick on Flyer for more information!
X-ALT-DESC;FMTTYPE=text/html:<strong>The Chinese General Chamber of Commerce USA - Chicago (CGCC Chicago) </strong>invites you to participate in an E-Commerce information session on August 27\, 2020. <strong>TMall Global&#39\;s B2C</strong>&nbsp\;(<strong>Alibaba</strong>&#39\;s dedicated channel for cross-border e-commerce) platform currently engages 800 million+ active monthly mobile users in the ecosystem as they build the future infrastructure in helping merchants\, brands\, and small businesses reach new horizons in cross-border commerce. In this webinar\, find out how they do it.<br />\n<br />\n<a href="https://chambermaster.blob.core.windows.net/userfiles/UserFiles/chambers/3222/File/TmallGlobalFlyerE-CommerceWebinar8.27.pdf" target="_blank">Click on Flyer for more information!</a><br />\n
LOCATION:Webinar
UID:e.3222.1940
SEQUENCE:3
DTSTAMP:20260424T091922Z
URL:https://www.apacc.net/events/details/e-commerce-webinar-1940
END:VEVENT

END:VCALENDAR
