BEGIN:VCALENDAR
VERSION:2.0
PRODID:-//ChamberMaster//Event Calendar 2.0//EN
METHOD:PUBLISH
X-PUBLISHED-TTL:P3D
REFRESH-INTERVAL:P3D
CALSCALE:GREGORIAN
BEGIN:VEVENT
DTSTART:20200310T173000Z
DTEND:20200310T203000Z
X-MICROSOFT-CDO-ALLDAYEVENT:FALSE
SUMMARY:DTE Supplier Immersion Day Summit
DESCRIPTION:Join DTE for an afternoon of information sharing and networking with buyers. In addition\, meet with Tier 1 suppliers to discuss potential sourcing opportunities as a subcontractor.\n\n\n\nWhy businesses should attend:\n\nLearn how to become a supplier with DTE\n\nOpportunity to meet with purchasing professionals\n\nLearn about upcoming purchasing needs\n\n \n\nA sampling of potential suppliers needs include items such as plumbing and service repair\, electrical equipment\, switchgear\, breakers\, mechanical\, land surveying services\, engineering\, and design services\, paving\, landscaping\, construction/general contractor services\, sandblasting/painting\, tree removal services/line clearance\, confined space rescue\, scaffolding \, civil foundations \, pre-fabricated buildings \, and concrete testing services.\n\n\n\nFor flyer\, please click here.
X-ALT-DESC;FMTTYPE=text/html:Join DTE for an afternoon of information sharing and networking with buyers. In addition\, meet with Tier 1 suppliers to discuss potential sourcing opportunities as a subcontractor.<br />\n<br />\nWhy businesses should attend:<br />\nLearn how to become a supplier with DTE<br />\nOpportunity to meet with purchasing professionals<br />\nLearn about upcoming purchasing needs<br />\n&nbsp\;<br />\nA sampling of potential suppliers needs include items such as plumbing and service repair\, electrical equipment\, switchgear\, breakers\, mechanical\, land surveying services\, engineering\, and design services\, paving\, landscaping\, construction/general contractor services\, sandblasting/painting\, tree removal services/line clearance\, confined space rescue\, scaffolding \, civil foundations \, pre-fabricated buildings \, and concrete testing services.<br />\n<br />\nFor flyer\, please click <a href="https://chambermaster.blob.core.windows.net/userfiles/UserFiles/chambers/3222/File/DTESupplierImmersionSummit_March102020.pdf" target="_blank">here</a>.<br />\n<br />\n<br />\n&nbsp\;
LOCATION:Fellowship Chapel Banquet Hall and Conference Center
UID:e.3222.1621
SEQUENCE:3
DTSTAMP:20260422T160241Z
URL:https://www.apacc.net/events/details/dte-supplier-immersion-day-summit-1621
END:VEVENT

END:VCALENDAR
