BEGIN:VCALENDAR
VERSION:2.0
PRODID:-//ChamberMaster//Event Calendar 2.0//EN
METHOD:PUBLISH
X-PUBLISHED-TTL:P3D
REFRESH-INTERVAL:P3D
CALSCALE:GREGORIAN
BEGIN:VEVENT
DTSTART:20250529T180000Z
DTEND:20250529T190000Z
X-MICROSOFT-CDO-ALLDAYEVENT:FALSE
SUMMARY:Driving Success: Tariff impacts on the automotive value chain
DESCRIPTION:Amid tariff uncertainty and shifting global trade policies\, it's essential for the entire automotive value chain to stay ahead of the curve. This webinar will provide invaluable insights into the tariffs impacting finished vehicles\, components\, and materials\, and the strategic responses from key trading partners.\n\n\n\nJoin Plante Moran and Michigan's Warner Norcross + Judd LLP to learn about OEM tariff strategies\, how the supply base is reacting\, and what suppliers should be doing now to prepare for the rest of the year. Equip yourself with the knowledge to navigate these changes\, maintain competitiveness\, and ensure compliance with new regulations. Don't miss this opportunity to develop informed guidance and scenario planning with our global trade and automotive experts.\n\n\n\nLearning objectives:  \n\n	Explore key tariffs impacting both finished vehicles\, components and materials\, including the implications of the April 29 announcements related to the adjustments to automobile and automobile part tariffs.   \n	Understand the responses from key trading partners and how this directly impacts the automotive value chain. \n	Learn about OEM tariff strategies and how the supply base is reacting. \n	Identify what suppliers should be preparing for during the remainder of the year.\n	Gain clarity on the complexities of today's tariff landscape and discover strategies for managing risks\, seizing opportunities\, and negotiating optimal outcomes.
X-ALT-DESC;FMTTYPE=text/html:Amid tariff uncertainty and shifting global trade policies\, it&rsquo\;s essential for the entire automotive value chain to stay ahead of the curve. This webinar will provide invaluable insights into the tariffs impacting finished vehicles\, components\, and materials\, and the strategic responses from key trading partners.<br />\n<br />\nJoin Plante Moran and Michigan&#39\;s Warner Norcross + Judd LLP to learn about OEM tariff strategies\, how the supply base is reacting\, and what suppliers should be doing now to prepare for the rest of the year. Equip yourself with the knowledge to navigate these changes\, maintain competitiveness\, and ensure compliance with new regulations. Don&#39\;t miss this opportunity to develop informed guidance and scenario planning with our global trade and automotive experts.<br />\n<br />\n<strong>Learning objectives:</strong> &nbsp\;\n<ul>\n	<li>Explore key tariffs impacting both finished vehicles\, components and materials\, including the implications of the April 29 announcements related to the adjustments to automobile and automobile part tariffs. &nbsp\;&nbsp\;</li>\n	<li>Understand the responses from key trading partners and how this directly impacts the automotive value chain.&nbsp\;</li>\n	<li>Learn about OEM tariff strategies and how the supply base is reacting.&nbsp\;</li>\n	<li>Identify what suppliers should be preparing for during the remainder of the year.</li>\n	<li>Gain clarity on the complexities of today&rsquo\;s tariff landscape and discover strategies for managing risks\, seizing opportunities\, and negotiating optimal outcomes.</li>\n</ul>\n
LOCATION:Webinar
UID:e.3222.2988
SEQUENCE:3
DTSTAMP:20260425T161632Z
URL:https://www.apacc.net/events/details/driving-success-tariff-impacts-on-the-automotive-value-chain-2988
END:VEVENT

END:VCALENDAR
