BEGIN:VCALENDAR
VERSION:2.0
PRODID:-//ChamberMaster//Event Calendar 2.0//EN
METHOD:PUBLISH
X-PUBLISHED-TTL:P3D
REFRESH-INTERVAL:P3D
CALSCALE:GREGORIAN
BEGIN:VEVENT
DTSTART:20200528T170000Z
DTEND:20200528T174500Z
X-MICROSOFT-CDO-ALLDAYEVENT:FALSE
SUMMARY:DRC Presents Part I- Tariff Recovery: Finding Cash Now
DESCRIPTION:This is the first of a three-part series focused on providing companies practical guidance and insights into recovering cash from previously paid tariffs and driving down costs. \n\n\n\nThis initial session will explore how automotive companies are turning previously paid tariffs into an asset to be mined.  Starting with a summary and outlook on the array of U.S. tariffs in-place that impact the North American automotive industry\, the session will quickly move to providing practical guidance on how to source the data necessary to first develop a detailed understanding of your company's tariff exposure and second serve as the foundation for finding cash in tariffs.    \n\n \n\nSpeakers:\n\nDouglas Zuvich\, Partner and Global Practice Leader\, Trade and Customs Services\, KPMG\n\nAlex Kazan\, Managing Director Global Strategy\, Eurasia Consulting Group\, KPMG\n\n \n\nWho should register: Anyone concerned with the potential impact of trade and tariffs on their customers and supply chains\, their stakeholders or their bottom line\, including CEOs\, CFOs\, controllers\, group presidents\, and trade and tax executives.
X-ALT-DESC;FMTTYPE=text/html:This is the first of a three-part series focused on providing companies practical guidance and insights into recovering cash from previously paid tariffs and driving down costs.&nbsp\;<br />\n<br />\nThis initial session will explore how automotive companies are turning previously paid tariffs into an asset to be mined.&nbsp\; Starting with a summary and outlook on the array of U.S. tariffs in-place that impact the North American automotive industry\, the session will quickly move to providing practical guidance on how to source the data necessary to first develop a detailed understanding of your company&rsquo\;s tariff exposure and second serve as the foundation for finding cash in tariffs.&nbsp\; &nbsp\;&nbsp\;<br />\n&nbsp\;<br />\nSpeakers:<br />\nDouglas Zuvich\, Partner and Global Practice Leader\, Trade and Customs Services\, KPMG<br />\nAlex Kazan\, Managing Director Global Strategy\, Eurasia Consulting Group\, KPMG<br />\n&nbsp\;<br />\nWho should register: Anyone concerned with the potential impact of trade and tariffs on their customers and supply chains\, their stakeholders or their bottom line\, including CEOs\, CFOs\, controllers\, group presidents\, and trade and tax executives.
LOCATION:Virtual event by Detroit Regional Chamber
UID:e.3222.1789
SEQUENCE:3
DTSTAMP:20260421T203405Z
URL:https://www.apacc.net/events/details/drc-presents-part-i-tariff-recovery-finding-cash-now-1789
END:VEVENT

END:VCALENDAR
