BEGIN:VCALENDAR
VERSION:2.0
PRODID:-//ChamberMaster//Event Calendar 2.0//EN
METHOD:PUBLISH
X-PUBLISHED-TTL:P3D
REFRESH-INTERVAL:P3D
CALSCALE:GREGORIAN
BEGIN:VEVENT
DTSTART:20200922T150000Z
DTEND:20200922T160000Z
X-MICROSOFT-CDO-ALLDAYEVENT:FALSE
SUMMARY:Don't Miss This Webinar: Working with the Asian Development Bank (ADB) - Transport and energy infrastructure projects
DESCRIPTION:Dialogue with Mark OGrady\, Senior Commercial Officer\, U.S. & Foreign Commercial Service's Liaison Office to Asian Development Bank\, Manila\, Philippines \n\n\n\nLearn more about how you can pursue Asian Development Bank (ADB) contracting opportunities. ADB's commitments across the its member countries in Asia and the broad Indo-Pacific region exceeded $32 Billion in 2019 and that figure will continue to grow. Our US Commercial team in Manila\, Mark OGrady and Michael Mia will lead the discussion.\n\nAs part of its mission of deepening its engagements with small-to-medium enterprises (SMEs)\, our Global Markets US Field and Advocacy offices have developed this 5-part series of external US company-focused webinars to equip small to medium-size enterprises with the latest tools and knowledge to help take part in these international project opportunities\, winning bids\, and the supply chains so as to win more bids\, tenders\, and business for the future.\n\nWhile targeting reliable government tenders financed by the MDBs\, can be challenging thus requiring time and dedication\, such efforts will greatly enhance your international experience and credentials. Join our Manila team at the ADB and others currently assigned to the 5 MDBs as they walk us through how each bank approaches project development in their regions\, and how U.S. companies - including SMEs! - can target those opportunities for success.\n\n\n\nFeatured Speakers:\n\n	Richard Swanson\, Senior Advisor\, U.S. Department of Commerce - Irvine\, CA\n	Ned Rauch-Mannino\, Deputy Assistant Secretary\, Global Operations\, U.S. Department of Commerce\n	Ana Guevara\, Deputy Assistant Secretary\, U.S. Field\, U.S. Department of Commerce\n	Jose' Cunningham\, Executive Director\, Advocacy and MDB Office\n	Ambassador Jason Chung\, U.S. Executive Director to the Asian Development Bank\n	Mark OGrady\, Senior Commercial Officer\, US&FCS Liaison Office to Asian Development Bank\n	Michael Mia\, Commercial Specialist\, US&FCS Liaison Office to Asian Development Bank
X-ALT-DESC;FMTTYPE=text/html:Dialogue with Mark OGrady\, Senior Commercial Officer\, U.S. &amp\; Foreign Commercial Service&rsquo\;s Liaison Office to Asian Development Bank\, Manila\, Philippines&nbsp\;<br />\n<br />\nLearn more about how you can pursue Asian Development Bank (ADB) contracting opportunities. ADB&rsquo\;s commitments across the its member countries in Asia and the broad Indo-Pacific region exceeded $32 Billion in 2019 and that figure will continue to grow. Our US Commercial team in Manila\, Mark OGrady and Michael Mia will lead the discussion.<br />\nAs part of its mission of deepening its engagements with small-to-medium enterprises (SMEs)\, our Global Markets US Field and Advocacy offices have developed this 5-part series of external US company-focused webinars to equip small to medium-size enterprises with the latest tools and knowledge to help take part in these international project opportunities\, winning bids\, and the supply chains so as to win more bids\, tenders\, and business for the future.<br />\nWhile targeting reliable government tenders financed by the MDBs\, can be challenging thus requiring time and dedication\, such efforts will greatly enhance your international experience and credentials. Join our Manila team at the ADB and others currently assigned to the 5 MDBs as they walk us through how each bank approaches project development in their regions\, and how U.S. companies - including SMEs! - can target those opportunities for success.<br />\n<br />\n<strong>Featured Speakers</strong>:\n<ul>\n	<li>Richard Swanson\, Senior Advisor\, U.S. Department of Commerce - Irvine\, CA</li>\n	<li>Ned Rauch-Mannino\, Deputy Assistant Secretary\, Global Operations\, U.S. Department of Commerce</li>\n	<li>Ana Guevara\, Deputy Assistant Secretary\, U.S. Field\, U.S. Department of Commerce</li>\n	<li>Jose&rsquo\; Cunningham\, Executive Director\, Advocacy and MDB Office</li>\n	<li>Ambassador Jason Chung\, U.S. Executive Director to the Asian Development Bank</li>\n	<li>Mark OGrady\, Senior Commercial Officer\, US&amp\;FCS Liaison Office to Asian Development Bank</li>\n	<li>Michael Mia\, Commercial Specialist\, US&amp\;FCS Liaison Office to Asian Development Bank</li>\n</ul>\n
LOCATION:Webinar by U.S. Commercial Service and ADB
UID:e.3222.1974
SEQUENCE:3
DTSTAMP:20260424T073559Z
URL:https://www.apacc.net/events/details/don-t-miss-this-webinar-working-with-the-asian-development-bank-adb-transport-and-energy-infrastructure-projects-1974
END:VEVENT

END:VCALENDAR
