BEGIN:VCALENDAR
VERSION:2.0
PRODID:-//ChamberMaster//Event Calendar 2.0//EN
METHOD:PUBLISH
X-PUBLISHED-TTL:P3D
REFRESH-INTERVAL:P3D
CALSCALE:GREGORIAN
BEGIN:VEVENT
DTSTART:20201027T170000Z
DTEND:20201027T183000Z
X-MICROSOFT-CDO-ALLDAYEVENT:FALSE
SUMMARY:Doing Business with the United Nations Women's Procurement Webinar
DESCRIPTION:Overview\n\nThis webinar will offer an introduction to UN's nearly $19 billion global procurement market covering a wide range of goods and services. The event will be particularly informative for women- owned companies that need help getting started.\n\n\n\nObjectives\n\nTo learn more about the UN procurement process\, opportunities and challenges\, and how to register as a UN vendor.\n\n\n\nEvent Information\n\n	This webinar will offer a free introduction to the UN's nearly $19 billion global procurement market\, covering a wide range of goods and services.\n	The event will be particularly informative for women- owned companies that need help getting started.\n	Attendees will hear about the UN procurement process\, both the opportunities and challenges\, and how to register as a UN vendor.\n	U.S. Department of Commerce Deputy Assistant Secretary\, U.S Ambassador to the UN and the UN Procurement Division Director provide remarks.\n\nSpeakers:\n\n\n	Ana Guevara\, U.S. Commercial Service Deputy Assistant Secretary\n	Cherith Norman Chalet\, U.S. Ambassador to the United Nations\n	Kelley E. Currie\, U.S. Ambassador-at-Large for Global Women's Issues\n	Neris Baez\, United Nations Procurement Division Director\n\nAgenda\n\n1:00 - 1:15 Opening Remarks\n\n1:15 - 2:00 UN Procurement Overview\n\n2:00 - 2:15 Q&A/Discussion
X-ALT-DESC;FMTTYPE=text/html:<strong>Overview</strong><br />\nThis webinar will offer an introduction to UN&rsquo\;s nearly $19 billion global procurement market covering a wide range of goods and services. The event will be particularly informative for women- owned companies that need help getting started.<br />\n<br />\n<strong>Objectives</strong><br />\nTo learn more about the UN procurement process\, opportunities and challenges\, and how to register as a UN vendor.<br />\n<br />\n<strong>Event Information</strong>\n<ul>\n	<li>This webinar will offer a free introduction to the UN&rsquo\;s nearly $19 billion global procurement market\, covering a wide range of goods and services.</li>\n	<li>The event will be particularly informative for women- owned companies that need help getting started.</li>\n	<li>Attendees will hear about the UN procurement process\, both the opportunities and challenges\, and how to register as a UN vendor.</li>\n	<li>U.S. Department of Commerce Deputy Assistant Secretary\, U.S Ambassador to the UN and the UN Procurement Division Director provide remarks.</li>\n</ul>\n<strong>Speakers</strong>:\n\n<ul>\n	<li><strong>Ana Guevara</strong>\, U.S. Commercial Service Deputy Assistant Secretary</li>\n	<li><strong>Cherith Norman Chalet</strong>\, U.S. Ambassador to the United Nations</li>\n	<li><strong>Kelley E. Currie</strong>\, U.S. Ambassador-at-Large for Global Women&rsquo\;s Issues</li>\n	<li><strong>Neris Baez</strong>\, United Nations Procurement Division Director</li>\n</ul>\n<strong>Agenda</strong><br />\n1:00 - 1:15 Opening Remarks<br />\n1:15 - 2:00 UN Procurement Overview<br />\n2:00 - 2:15 Q&amp\;A/Discussion
LOCATION:Webinar by U.S. Commercial Services
UID:e.3222.1987
SEQUENCE:3
DTSTAMP:20260424T055832Z
URL:https://www.apacc.net/events/details/doing-business-with-the-united-nations-women-s-procurement-webinar-1987
END:VEVENT

END:VCALENDAR
