BEGIN:VCALENDAR
VERSION:2.0
PRODID:-//ChamberMaster//Event Calendar 2.0//EN
METHOD:PUBLISH
X-PUBLISHED-TTL:P3D
REFRESH-INTERVAL:P3D
CALSCALE:GREGORIAN
BEGIN:VEVENT
DTSTART:20251106T133000Z
DTEND:20251106T173000Z
X-MICROSOFT-CDO-ALLDAYEVENT:FALSE
SUMMARY:Diverse Connections
DESCRIPTION:Bringing vendors and buyers together. \n\n\n\nAGENDA\n\n\n\nDoors open at 8:00 AM\n\n\n\n8:30 AM - 9:00 AM\n\nRegistration Begins & Continental Breakfast\n\nDoors will open at 8:00 a.m. Breakfast served from 8:00 a.m. - 9:00 a.m.\n\n\n\n9:00 AM - 9:30 AM\n\nOakland County Remarks\n\nThe event will kick off with an introduction from County Executive Dave Coulter\, Chief Diversity Officer Harry Weaver and Deputy County Executive Sean Carlson.\n\n\n\n9:30 AM - 10:00 AM\n\nBecoming a Dynamic Supplier\n\nTony Cook\, Interim COO of Oakland Thrive will give a 30 minute session.\n\n\n\n10:00 AM - 10:45 AM\n\nBreak Out Session 1/ Niles Room\n\nTodd Terry\, Agent at AllState presenting Insurance Basics: The What IF'S IN LIFE. Please note: Space is limited. Register for this session at the registration table on the morning of the event.\n\n\n\n11:00 AM - 11:45 AM\n\nBreak Out Session 2 / Niles Room\n\nTodd Terry\, Agent at AllState presenting Insurance Basics: The What IF'S IN LIFE. Please note: Space is limited. Register for this session at the registration table on the morning of the event.\n\n\n\n10:00 AM - 12:30 PM\n\nNetworking\n\nThere will be an opportunity to network with various departments and partner organizations\, including Pretrial & Justice Services\, Emergency Management\, IT\, Workforce D
X-ALT-DESC;FMTTYPE=text/html:<br />\nBringing vendors and buyers together.&nbsp\;<br />\n<br />\n<strong>AGENDA</strong><br />\n<br />\nDoors open at 8:00 AM<br />\n<br />\n<strong>8:30 AM - 9:00 AM<br />\nRegistration Begins &amp\; Continental Breakfast</strong><br />\nDoors will open at 8:00 a.m. Breakfast served from 8:00 a.m. - 9:00 a.m.<br />\n<br />\n<strong>9:00 AM - 9:30 AM<br />\nOakland County Remarks</strong><br />\nThe event will kick off with an introduction from County Executive Dave Coulter\, Chief Diversity Officer Harry Weaver and Deputy County Executive Sean Carlson.<br />\n<br />\n<strong>9:30 AM - 10:00 AM<br />\nBecoming a Dynamic Supplier</strong><br />\nTony Cook\, Interim COO of Oakland Thrive will give a 30 minute session.<br />\n<br />\n<strong>10:00 AM - 10:45 AM<br />\nBreak Out Session 1/ Niles Room</strong><br />\nTodd Terry\, Agent at AllState presenting Insurance Basics: The What IF&#39\;S IN LIFE. Please note: Space is limited. Register for this session at the registration table on the morning of the event.<br />\n<br />\n<strong>11:00 AM - 11:45 AM<br />\nBreak Out Session 2 / Niles Room</strong><br />\nTodd Terry\, Agent at AllState presenting Insurance Basics: The What IF&#39\;S IN LIFE. Please note: Space is limited. Register for this session at the registration table on the morning of the event.<br />\n<br />\n<strong>10:00 AM - 12:30 PM<br />\nNetworking</strong><br />\nThere will be an opportunity to network with various departments and partner organizations\, including Pretrial &amp\; Justice Services\, Emergency Management\, IT\, Workforce D
LOCATION:Detroit Marriott Troy
UID:e.3222.3026
SEQUENCE:3
DTSTAMP:20260426T013852Z
URL:https://www.apacc.net/events/details/diverse-connections-3026
END:VEVENT

END:VCALENDAR
