BEGIN:VCALENDAR
VERSION:2.0
PRODID:-//ChamberMaster//Event Calendar 2.0//EN
METHOD:PUBLISH
X-PUBLISHED-TTL:P3D
REFRESH-INTERVAL:P3D
CALSCALE:GREGORIAN
BEGIN:VEVENT
DTSTART;VALUE=DATE:20201007
DTEND;VALUE=DATE:20201010
TRANSP:TRANSPARENT
X-MICROSOFT-CDO-ALLDAYEVENT:TRUE
SUMMARY:Discover Global Markets: Growth Opportunities in Intelligent Manufacturing
DESCRIPTION:The 2020 Discover Global Markets business development forum is the U.S. Department of Commerce's flagship event for U.S. exporters and economic development organizations. \n\n\n\nDiscover Global Markets: Growth Opportunities in Intelligent Manufacturing will cut across smart technology aspects of various industries\, including automotive\, aerospace and energy storage. Products and services may include manufacturing machinery\, composites\, electric and autonomous vehicles\, next generation batteries\, automation products\, supply and security solutions\, wearables\, sensors and digital services\, among others. You will have the opportunity to: Meet Virtually One-on-One With U.S. Commercial Diplomats\n\n\n\nLeverage new U.S. Government trade contacts based in 30+ countries\, including Algeria\, Austria\, Brazil\, Bulgaria\, Canada\, Chile\, Croatia\, Denmark\, Egypt\, France\, Germany\, Greece\, India\, Ireland\, Italy\, Kazakhstan\, Kuwait\, Mexico\, Morocco\, Norway\, Peru\, Poland\, Romania\, Russia\, Saudi Arabia\, Singapore\, Slovakia\, Spain\, Sweden\, Tunisia\, Turkey\, and UAE\, to support your international sales growth. Receive guidance on trade barriers and market access issues. Gain market insight on geopolitical and economic issues.\n\n\n\nAttend Virtual Forum Sessions and Hear Global Industry Leaders\n\n\n\nInteractive sessions with private sector industry experts and government officials from the U.S. and abroad will allow you to dive deeper into topics such as sales channels and actual deal pipelines\; country-specific economic reform and demographic impacts on intelligent manufacturing sectors\; strategies to optimize your company's success related to supply chain sustainability\, Meet Virtually with Foreign Buyers\, Government Officials and Investors\n\n\n\nMeet one-on-one with buyers\,  government officials and investors from Algeria\, Brazil\, Canada\, Egypt\, India\, Korea\, Morocco\, Nordics\, Southern Europe\, Western Europe and other markets around the globe looking for U.S. suppliers\, partners and EDOs.\n\n\n\nRegister by Tuesday\, September 15 for an early bird rate of $125. Cost goes up to $175. after September 15th. Eligible Michigan companies can apply for the Michigan's State Trade Expansion Program (MI-STEP) to help cover the cost of registration.
X-ALT-DESC;FMTTYPE=text/html:The 2020 Discover Global Markets business development forum is the U.S. Department of Commerce&#39\;s flagship event for U.S. exporters and economic development organizations.&nbsp\;<br />\n<br />\nDiscover Global Markets: Growth Opportunities in Intelligent Manufacturing will cut across smart technology aspects of various industries\, including automotive\, aerospace and energy storage. Products and services may include manufacturing machinery\, composites\, electric and autonomous vehicles\, next generation batteries\, automation products\, supply and security solutions\, wearables\, sensors and digital services\, among others. You will have the opportunity to: Meet Virtually One-on-One With U.S. Commercial Diplomats<br />\n<br />\nLeverage new U.S. Government trade contacts based in 30+ countries\, including Algeria\, Austria\, Brazil\, Bulgaria\, Canada\, Chile\, Croatia\, Denmark\, Egypt\, France\, Germany\, Greece\, India\, Ireland\, Italy\, Kazakhstan\, Kuwait\, Mexico\, Morocco\, Norway\, Peru\, Poland\, Romania\, Russia\, Saudi Arabia\, Singapore\, Slovakia\, Spain\, Sweden\, Tunisia\, Turkey\, and UAE\, to support your international sales growth. Receive guidance on trade barriers and market access issues. Gain market insight on geopolitical and economic issues.<br />\n<br />\nAttend Virtual Forum Sessions and Hear Global Industry Leaders<br />\n<br />\nInteractive sessions with private sector industry experts and government officials from the U.S. and abroad will allow you to dive deeper into topics such as sales channels and actual deal pipelines\; country-specific economic reform and demographic impacts on intelligent manufacturing sectors\; strategies to optimize your company&#39\;s success related to supply chain sustainability\, Meet Virtually with Foreign Buyers\, Government Officials and Investors<br />\n<br />\nMeet one-on-one with buyers\,&nbsp\; government officials and investors from Algeria\, Brazil\, Canada\, Egypt\, India\, Korea\, Morocco\, Nordics\, Southern Europe\, Western Europe and other markets around the globe looking for U.S. suppliers\, partners and EDOs.<br />\n<br />\nRegister by Tuesday\, September 15 for an early bird rate of $125. Cost goes up to $175. after September 15th. Eligible Michigan companies can apply for the <a href="https://www.michiganbusiness.org/services/international-trade/mistep/?utm_source=newsletter&amp\;utm_medium=email&amp\;utm_campaign=medc-trade-global-markets-virtual-conference-09-11-2020-nl&amp\;mkt_tok=eyJpIjoiWWpNNFlUQXpZbU16TlRkbSIsInQiOiJiRmt5d3dCZTB1NDN5dHd2MXBlbFRjS2puaFZxSW9kMFNBZldIZG5sZDRvMjhOUHNSTkxJR0xpdEsyaG1ETG45RXNVa0pVMUVIZ0lwT0ZiRzk2dWo0NTlVZjl0ZFJyK2M4WTVYWDN5ZXYxUkx2MnJCUnJCNEQ1ZU1jcFwvaXFMTysifQ%3D%3D" target="_blank">Michigan&#39\;s State Trade Expansion Program (MI-STEP)</a> to help cover the cost of registration.
LOCATION:Virtual event by U.S. Department of Commerce
UID:e.3222.1959
SEQUENCE:3
DTSTAMP:20260422T022947Z
URL:https://www.apacc.net/events/details/discover-global-markets-growth-opportunities-in-intelligent-manufacturing-1959
END:VEVENT

END:VCALENDAR
