BEGIN:VCALENDAR
VERSION:2.0
PRODID:-//ChamberMaster//Event Calendar 2.0//EN
METHOD:PUBLISH
X-PUBLISHED-TTL:P3D
REFRESH-INTERVAL:P3D
CALSCALE:GREGORIAN
BEGIN:VEVENT
DTSTART:20180904T153000Z
DTEND:20180904T163000Z
X-MICROSOFT-CDO-ALLDAYEVENT:FALSE
SUMMARY:Digital Marketing - Entrepreneurial Operating System - Webinar
DESCRIPTION:Topic: Entrepreneurial Operating System\n\nCan you sell your product or service through the internet? Are you doing that well? If you are normal then you could radically improve your Digital Marketing. Learn how to develop a powerful Digital Marketing Strategy. Understand the components of Digital Marketing and understand where to put your attention and get the results you desire.\n\n\n\nIn this series we teach fundamental insights and simple implementation tools that will enable you to get what you want more quickly with less pain and agony. We use EOS (Entrepreneurial Operating System) as a set of mechanisms to implement the insights and practices we teach that will ensure you get what you want out of your business. EOS is a complete system of simple tools that drives three things\; Vision\, Traction and Team Health. Vision is getting every one in your company the same crystal clear\, powerful vision of where you are going and how you are going to get there. Traction is radically improving the Discipline and Accountability in your company. Team Health is advancing your company as a High Performing team.
X-ALT-DESC;FMTTYPE=text/html:Topic: Entrepreneurial Operating System<br />\nCan you sell your product or service through the internet? Are you doing that well? If you are normal then you could radically improve your Digital Marketing. Learn how to develop a powerful Digital Marketing Strategy. Understand the components of Digital Marketing and understand where to put your attention and get the results you desire.<br />\n<br />\nIn this series we teach fundamental insights and simple implementation tools that will enable you to get what you want more quickly with less pain and agony. We use EOS (Entrepreneurial Operating System) as a set of mechanisms to implement the insights and practices we teach that will ensure you get what you want out of your business. EOS is a complete system of simple tools that drives three things\; Vision\, Traction and Team Health. Vision is getting every one in your company the same crystal clear\, powerful vision of where you are going and how you are going to get there. Traction is radically improving the Discipline and Accountability in your company. Team Health is advancing your company as a High Performing team.
LOCATION:Online
UID:e.3222.146
SEQUENCE:3
DTSTAMP:20260421T190514Z
URL:https://www.apacc.net/events/details/digital-marketing-entrepreneurial-operating-system-webinar-146
END:VEVENT

END:VCALENDAR
