BEGIN:VCALENDAR
VERSION:2.0
PRODID:-//ChamberMaster//Event Calendar 2.0//EN
METHOD:PUBLISH
X-PUBLISHED-TTL:P3D
REFRESH-INTERVAL:P3D
CALSCALE:GREGORIAN
BEGIN:VEVENT
DTSTART:20200909T160000Z
DTEND:20200909T180000Z
X-MICROSOFT-CDO-ALLDAYEVENT:FALSE
SUMMARY:Develop Effective Metrics to Measure Diversity and Inclusion
DESCRIPTION:How to Develop Effective Metrics to Measure Diversity and Inclusion\n\n\n\nMichigan Diversity Council Virtual Lunch and Learn sessions are fostered to ignite thought and action in a focus group setting addressing diversity\, equity and inclusion in the context of professional\, community\, and organizational advancement. The sessions are focused on unpacking tough topics and framing conversations with strategies and a deeper understanding of application. In doing so\, we need energized and empowered change agents to join our community with a mutual goal of creating awareness\, education\, best practices. Please join us on the journey.\n\n\n\nFor questions or comments\, please contact Ivy Hunter at ivy.hunter@nationaldiversitycouncil.org
X-ALT-DESC;FMTTYPE=text/html:<strong>How to Develop Effective Metrics to Measure Diversity and Inclusion</strong><br />\n<br />\nMichigan Diversity Council <a href="http://michigandiversitycouncil.org/events/2020-september-lunch-n-learn-meeting/?utm_source=constant_contact&amp\;utm_medium=email_blast&amp\;utm_campaign=mi_upcoming_events" target="_blank">Virtual Lunch and Learn</a> sessions are fostered to ignite thought and action in a focus group setting addressing diversity\, equity and inclusion in the context of professional\, community\, and organizational advancement. The sessions are focused on unpacking tough topics and framing conversations with strategies and a deeper understanding of application. In doing so\, we need energized and empowered change agents to join our community with a mutual goal of creating awareness\, education\, best practices. Please join us on the journey.<br />\n<br />\nFor questions or comments\, please contact Ivy Hunter at <a href="mailto:ivy.hunter@nationaldiversitycouncil.org" target="_blank">ivy.hunter@nationaldiversitycouncil.org</a>
LOCATION:Virtual by Michigan Diversity Council
UID:e.3222.1919
SEQUENCE:3
DTSTAMP:20260422T051937Z
URL:https://www.apacc.net/events/details/develop-effective-metrics-to-measure-diversity-and-inclusion-1919
END:VEVENT

END:VCALENDAR
