BEGIN:VCALENDAR
VERSION:2.0
PRODID:-//ChamberMaster//Event Calendar 2.0//EN
METHOD:PUBLISH
X-PUBLISHED-TTL:P3D
REFRESH-INTERVAL:P3D
CALSCALE:GREGORIAN
BEGIN:VEVENT
DTSTART:20180419T140000Z
DTEND:20180419T200000Z
X-MICROSOFT-CDO-ALLDAYEVENT:FALSE
SUMMARY:Detroit China Cross Border Investment Summit 2018 The Tech of Things
DESCRIPTION:The Detroit Chinese Business Association along with Minority Business\n\nDevelopment Agency / Dept. of Commerce San Jose. Are hosting a full day conference\n\nwith delegations from Jiading Shanghai and Tongxiang China.\n\n\n\nTED-X Style presentations with Keynote by Kyle Ellicott on China Michigan Technology collaborations\,\n\nCenter for Automotive Research and much more.\n\nAdmission is complimentary\; though advance registrations is required.\n\nBreakfast and Luncheon will be served for pre-registered guests.\n\n\n\nSpace is limited: 80 persons!\n\nReserved your Seat TODAY!!
X-ALT-DESC;FMTTYPE=text/html:<span style="font-size:14px\;"><span style="font-family:arial\;">The Detroit Chinese Business Association along with Minority Business<br />\nDevelopment Agency / Dept. of Commerce San Jose. Are hosting a full day conference<br />\nwith delegations from Jiading Shanghai and Tongxiang China.<br />\n<br />\nTED-X Style presentations with Keynote by Kyle Ellicott on China Michigan Technology collaborations\,<br />\nCenter for Automotive Research and much more.<br />\nAdmission is complimentary\; though advance registrations is required.<br />\nBreakfast and Luncheon will be served for pre-registered guests.<br />\n<br />\nSpace is limited: 80 persons!<br />\nReserved your Seat TODAY!!</span></span>
LOCATION:At Next Energy Center 461 Burroughs St. Detroit MI 48202
UID:e.3222.34
SEQUENCE:3
DTSTAMP:20260421T083009Z
URL:https://www.apacc.net/events/details/detroit-china-cross-border-investment-summit-2018-the-tech-of-things-34
END:VEVENT

END:VCALENDAR
