BEGIN:VCALENDAR
VERSION:2.0
PRODID:-//ChamberMaster//Event Calendar 2.0//EN
METHOD:PUBLISH
X-PUBLISHED-TTL:P3D
REFRESH-INTERVAL:P3D
CALSCALE:GREGORIAN
BEGIN:VEVENT
DTSTART:20250924T180000Z
DTEND:20250924T200000Z
X-MICROSOFT-CDO-ALLDAYEVENT:FALSE
SUMMARY:Dealing with Disaster from an Individual Tax Perspective
DESCRIPTION:This webinar will provide an overview of the following:\n\n	Awareness of tax-related disaster relief\n	Types of relief\n	Casualty losses\n	Federally declared disaster areas\n	Other permanent relief\n	Identification of new federal tax law disaster relief provisions\n	Identification of IRS Disaster Tax Relief Resources\n	Plus\, a live Q & A\n\nOffered with closed captioning. Closed captioning displays the words that describe the audio portion of the program for viewers who are deaf or hard of hearing. Captions are available in English.\n\n\n\nAll participants who qualify will receive a Certificate of Completion.\n\n \n\nTax Professionals - Earn up to 2 IRS Continuing Education (CE) Credit\n\nCategory: Federal Tax\n\n \n\nIRS Stakeholder Liaison is an IRS Return Preparer Office Approved CE Provider for Enrolled Agents and Other Tax Return Preparers with valid PTINs and is not NASBA or MCLE accredited. CPAs\, attorneys and others licensed by state boards/organizations should check with their respective boards/organizations to determine if credit applies toward their continuing education requirements.
X-ALT-DESC;FMTTYPE=text/html:<br />\nThis webinar will provide an overview of the following:\n<ul>\n	<li>Awareness of tax-related disaster relief</li>\n	<li>Types of relief</li>\n	<li>Casualty losses</li>\n	<li>Federally declared disaster areas</li>\n	<li>Other permanent relief</li>\n	<li>Identification of new federal tax law disaster relief provisions</li>\n	<li>Identification of IRS Disaster Tax Relief Resources</li>\n	<li>Plus\, a live Q &amp\; A</li>\n</ul>\nOffered with closed captioning. Closed captioning displays the words that describe the audio portion of the program for viewers who are deaf or hard of hearing. Captions are available in English.<br />\n<br />\nAll participants who qualify will receive a Certificate of Completion.<br />\n&nbsp\;<br />\nTax Professionals - Earn up to 2 IRS Continuing Education (CE) Credit<br />\nCategory: Federal Tax<br />\n&nbsp\;<br />\nIRS Stakeholder Liaison is an IRS Return Preparer Office Approved CE Provider for Enrolled Agents and Other Tax Return Preparers with valid PTINs and is not NASBA or MCLE accredited. CPAs\, attorneys and others licensed by state boards/organizations should check with their respective boards/organizations to determine if credit applies toward their continuing education requirements.
LOCATION:Webinar
UID:e.3222.3019
SEQUENCE:3
DTSTAMP:20260425T222356Z
URL:https://www.apacc.net/events/details/dealing-with-disaster-from-an-individual-tax-perspective-3019
END:VEVENT

END:VCALENDAR
