BEGIN:VCALENDAR
VERSION:2.0
PRODID:-//ChamberMaster//Event Calendar 2.0//EN
METHOD:PUBLISH
X-PUBLISHED-TTL:P3D
REFRESH-INTERVAL:P3D
CALSCALE:GREGORIAN
BEGIN:VEVENT
DTSTART:20210218T140000Z
DTEND:20210218T143000Z
X-MICROSOFT-CDO-ALLDAYEVENT:FALSE
SUMMARY:COVID-19 Vaccine Town Hall
DESCRIPTION:West Bloomfield Township in conjunction with Civic Center TV and Henry Ford West Bloomfield Hospital will host a Covid-19 Vaccine Town Hall on February 18\, at 9:00 am.\n\n\n\nThe virtual event will be broadcast on Lakes FM 89.3\, various community Facebook pages and on Civic Center TV (channel 15 or 99). \n\n\n\nExpert Panelists will provide an overview of Covid-19 in the community\, discuss the safety and efficacy or the vaccine and answer common questions to allow viewers to make informed decisions. \n\n\n\nPanelists include:\n\n\n\nEric Wallis\n\nPresident\, Henry Ford West Bloomfield Hospital\n\n\n\nDr. Manu Malhotra\n\nChief Medical Officer\, Henry Ford West Bloomfield Hospital and NW Region\n\n\n\nDr. Anne Chen\n\nChief of Medicine\, Henry Ford West Bloomfield Hospital and Program Director of Infectious Disease\, Henry Ford Hospital\n\n\n\nFor more information\, please click here.\n\n\n\nThis event and many others are made possible to APACC's network and friends through a partnership with National ACE.
X-ALT-DESC;FMTTYPE=text/html:<br />\n<br />\n<br />\nWest Bloomfield Township in conjunction with Civic Center TV and Henry Ford West Bloomfield Hospital will host a Covid-19 Vaccine Town Hall on February 18\, at 9:00 am.<br />\n<br />\nThe virtual event will be broadcast on Lakes FM 89.3\, various community Facebook pages and on Civic Center TV (channel 15 or 99).&nbsp\;<br />\n<br />\nExpert Panelists will provide an overview of Covid-19 in the community\, discuss the safety and efficacy or the vaccine and answer common questions to allow viewers to make informed decisions.&nbsp\;<br />\n<br />\n<u>Panelists include:</u><br />\n<br />\n<strong>Eric Wallis</strong><br />\nPresident\, Henry Ford West Bloomfield Hospital<br />\n<br />\n<strong>Dr. Manu Malhotra</strong><br />\nChief Medical Officer\, Henry Ford&nbsp\;West Bloomfield Hospital and NW Region<br />\n<br />\n<strong>Dr. Anne Chen</strong><br />\nChief of Medicine\,&nbsp\;Henry Ford&nbsp\;West Bloomfield Hospital and Program Director of Infectious Disease\, Henry Ford Hospital<br />\n<br />\nFor more information\, please click <a href="https://chambermaster.blob.core.windows.net/userfiles/UserFiles/chambers/3222/File/VaccineTownHall.pdf" target="_blank">here</a>.<br />\n<br />\nThis event and many others are made possible to APACC&rsquo\;s network and friends through a partnership with National ACE.
LOCATION:Virtual
UID:e.3222.2063
SEQUENCE:3
DTSTAMP:20260423T163335Z
URL:https://www.apacc.net/events/details/covid-19-vaccine-town-hall-2063
END:VEVENT

END:VCALENDAR
