BEGIN:VCALENDAR
VERSION:2.0
PRODID:-//ChamberMaster//Event Calendar 2.0//EN
METHOD:PUBLISH
X-PUBLISHED-TTL:P3D
REFRESH-INTERVAL:P3D
CALSCALE:GREGORIAN
BEGIN:VEVENT
DTSTART:20200721T150000Z
DTEND:20200721T160000Z
X-MICROSOFT-CDO-ALLDAYEVENT:FALSE
SUMMARY:COVID-19 Panel: What Your C-Suite Should be Thinking About
DESCRIPTION:As businesses continue on the trajectory of getting back to work\, having the right resources is critical to manage risk and comply with regulations and guidelines. Warner Norcross + Judd has been a go-to resource for organizations throughout this pandemic and on Tuesday\, July 21\, we are conducting a roundtable discussion highlighting what you need to know while getting your company back to work. Warner's multidisciplinary team will be answering questions that we know are top of mind for senior executives facing this challenge\, from human resources to supply chain to PPP loans and other issues. No PowerPoint\, just answers. So feel free to submit your questions to our panel when you register for the event.\n\n\n\nLinda Paullin-Hebden\, Executive Partner\, Moderator\n\nMichael G. Brady\, Partner\, Panelist - Supplier Disputes\n\nTroy M. Cumings\, Executive Partner\, Panelist - Capitol Update\n\nRob M. Davies\, Partner\, Panelist - PPP/Real Estate\n\nDennis W. Loughlin\, Partner\, Panelist - Distressed Companies\n\nAllyson R. Terpsma\, Associate\, Panelist - Human Resources\n\nDeAndre' Harris\, Associate\, Panelist - Safety/Human Resources
X-ALT-DESC;FMTTYPE=text/html:As businesses continue on the trajectory of getting back to work\, having the right resources is critical to manage risk and comply with regulations and guidelines. Warner Norcross + Judd has been a go-to resource for organizations throughout this pandemic and on Tuesday\, July 21\, we are conducting a roundtable discussion highlighting what you need to know while getting your company back to work. Warner&rsquo\;s multidisciplinary team will be answering questions that we know are top of mind for senior executives facing this challenge\, from human resources to supply chain to PPP loans and other issues. No PowerPoint\, just answers. So feel free to submit your questions to our panel when you register for the event.<br />\n<br />\nLinda Paullin-Hebden\,&nbsp\;Executive Partner\,&nbsp\;Moderator<br />\nMichael G. Brady\,&nbsp\;Partner\,&nbsp\;Panelist - Supplier Disputes<br />\nTroy M. Cumings\,&nbsp\;Executive Partner\,&nbsp\;Panelist - Capitol Update<br />\nRob M. Davies\,&nbsp\;Partner\,&nbsp\;Panelist - PPP/Real Estate<br />\nDennis W. Loughlin\,&nbsp\;Partner\,&nbsp\;Panelist - Distressed Companies<br />\nAllyson R. Terpsma\,&nbsp\;Associate\,&nbsp\;Panelist - Human Resources<br />\nDeAndre&#39\; Harris\,&nbsp\;Associate\,&nbsp\;Panelist - Safety/Human Resources
LOCATION:Zoom Meeting
UID:e.3222.1876
SEQUENCE:3
DTSTAMP:20260424T033002Z
URL:https://www.apacc.net/events/details/covid-19-panel-what-your-c-suite-should-be-thinking-about-1876
END:VEVENT

END:VCALENDAR
