BEGIN:VCALENDAR
VERSION:2.0
PRODID:-//ChamberMaster//Event Calendar 2.0//EN
METHOD:PUBLISH
X-PUBLISHED-TTL:P3D
REFRESH-INTERVAL:P3D
CALSCALE:GREGORIAN
BEGIN:VEVENT
DTSTART:20210310T140000Z
DTEND:20210310T160000Z
X-MICROSOFT-CDO-ALLDAYEVENT:FALSE
SUMMARY:COVID-19: Crisis & Aftermath The Good\, The Bad and The Ugly
DESCRIPTION:The COVID-19 pandemic upended most workplaces\, policies and health plan expectations in 2020. It will continue to have an impact in 2021 and possibly beyond. \n\n\n\nThis first session of our 4-webinar series focuses on the impact of COVID-19\, measured in terms of both health care costs as well as the trickle-down effect on employee engagement\, mental health\, workplace practices\, compliance and more.\n\n\n\nDirector of Research & Education Sue Mathiesen is joined by VP of Health & Benefits Lauren Fabbri to provide a review of some of the lessons learned as we all adapted and adopted new approaches over the past year. We will have time to address questions during the live webinar but feel free to submit your question in the registration form.
X-ALT-DESC;FMTTYPE=text/html:The COVID-19 pandemic upended most workplaces\, policies and health plan expectations in 2020. It will continue to have an impact in 2021 and possibly beyond.&nbsp\;<br />\n<br />\nThis first session of our 4-webinar series focuses on the impact of COVID-19\, measured in terms of both health care costs as well as the trickle-down effect on employee engagement\, mental health\, workplace practices\, compliance and more.<br />\n<br />\nDirector of Research &amp\; Education Sue Mathiesen is joined by VP of Health &amp\; Benefits Lauren Fabbri to provide a review of some of the lessons learned as we all adapted and adopted new approaches over the past year. We will have time to address questions during the live webinar but feel free to submit your question in the registration form.
LOCATION:Webinar:
UID:e.3222.2068
SEQUENCE:3
DTSTAMP:20260423T120006Z
URL:https://www.apacc.net/events/details/covid-19-crisis-aftermath-the-good-the-bad-and-the-ugly-2068
END:VEVENT

END:VCALENDAR
