BEGIN:VCALENDAR
VERSION:2.0
PRODID:-//ChamberMaster//Event Calendar 2.0//EN
METHOD:PUBLISH
X-PUBLISHED-TTL:P3D
REFRESH-INTERVAL:P3D
CALSCALE:GREGORIAN
BEGIN:VEVENT
DTSTART:20200430T210000Z
DTEND:20200430T220000Z
X-MICROSOFT-CDO-ALLDAYEVENT:FALSE
SUMMARY:Coping Strategies for 2020
DESCRIPTION:Please join this Coping Strategies for 2020 by several Holistic Practitioners.\n\nThe Zoom sessions are open to all. Registration required\, signed up to receive Zoom Link as space is limited.\n\n\n\nDr. Stacey Francis\, kinesiologist and nutritional consultant\, for an opportunity to learn how to address health concerns naturally. \n\n\n\nFor more information\, please click here.\n\nTo sign up\, please click here.
X-ALT-DESC;FMTTYPE=text/html:Please join this Coping Strategies for 2020 by several Holistic Practitioners.<br />\nThe Zoom sessions are open to all. Registration required\, signed up to receive Zoom Link as space is limited.<br />\n<br />\n<a href="https://specificwellness.com/" target="_blank">Dr. Stacey Francis</a>\, kinesiologist and nutritional consultant\, for an opportunity to learn how to address health concerns naturally.&nbsp\;<br />\n<br />\nFor more information\, <a href="https://www.drpeacelily.com/" target="_blank">please click here</a>.<br />\nTo sign up\, <a href="https://www.drpeacelily.com/event/addressing-your-health-concerns-naturally-with-specific-wellness-virtual/" target="_blank">please click here</a>.
LOCATION:Zoom series
UID:e.3222.1680
SEQUENCE:3
DTSTAMP:20260423T093810Z
URL:https://www.apacc.net/events/details/coping-strategies-for-2020-1680
END:VEVENT

END:VCALENDAR
