BEGIN:VCALENDAR
VERSION:2.0
PRODID:-//ChamberMaster//Event Calendar 2.0//EN
METHOD:PUBLISH
X-PUBLISHED-TTL:P3D
REFRESH-INTERVAL:P3D
CALSCALE:GREGORIAN
BEGIN:VEVENT
DTSTART:20200420T210000Z
DTEND:20200420T220000Z
X-MICROSOFT-CDO-ALLDAYEVENT:FALSE
SUMMARY:Coping Strategies for 2020
DESCRIPTION:Please join this Coping Strategies for 2020 by several Holistic Practitioners.\n\nThe Zoom sessions are open to all. Registration required\, signed up to receive Zoom Link as space is limited.\n\n\n\nLearn practical massage techniques you can easily implement at home with Dr. Julie Kwon Evans.\n\n\n\nFor more information\, please click here.\n\nTo sign up\, please click here.
X-ALT-DESC;FMTTYPE=text/html:Please join this Coping Strategies for 2020 by several Holistic Practitioners.<br />\nThe Zoom sessions are open to all. Registration required\, signed up to receive Zoom Link as space is limited.<br />\n<br />\n<strong>Learn practical massage techniques</strong> you can easily implement at home with <a href="https://www.drjuliekwonevans.com/" target="_blank">Dr. Julie Kwon Evans</a>.<br />\n<br />\nFor more information\, <a href="https://www.drpeacelily.com/" target="_blank">please click here</a>.<br />\nTo sign up\, <a href="https://www.drpeacelily.com/event/practical-massage-techniques/" target="_blank">please click here</a>.
LOCATION:Zoom series
UID:e.3222.1673
SEQUENCE:3
DTSTAMP:20260423T093713Z
URL:https://www.apacc.net/events/details/coping-strategies-for-2020-1673
END:VEVENT

END:VCALENDAR
