BEGIN:VCALENDAR
VERSION:2.0
PRODID:-//ChamberMaster//Event Calendar 2.0//EN
METHOD:PUBLISH
X-PUBLISHED-TTL:P3D
REFRESH-INTERVAL:P3D
CALSCALE:GREGORIAN
BEGIN:VEVENT
DTSTART:20181108T230000Z
DTEND:20181109T010000Z
X-MICROSOFT-CDO-ALLDAYEVENT:FALSE
SUMMARY:Cooking for Diabetes "What can I eat?"
DESCRIPTION:As the holiday season begins\, carbs and sugar-filled foods such as mashed potatoes\, rolls and delicious desserts tend to be part of every celebration. Following a healthy diet can be challenging\, but there are plenty of diabetic-friendly dishes brimmimg with seasonal flavors that the whole family can enjoy. Join Henry Ford experts to learn simple swaps that can help you stay on track to maintain your blood sugar in a carb-crazy season.
X-ALT-DESC;FMTTYPE=text/html:As the holiday season begins\, carbs and sugar-filled foods such as mashed potatoes\, rolls and delicious desserts tend to be part of every celebration. Following a healthy diet can be challenging\, but there are plenty of diabetic-friendly dishes brimmimg with seasonal flavors that the whole family can enjoy. Join Henry Ford experts to learn simple swaps that can help you stay on track to maintain your blood sugar in a carb-crazy season.
LOCATION:Demonstration Kitchen Henry Ford West Bloomfield Hospital 6777 W. Maple West Bloomfield\, MI 48322
UID:e.3222.195
SEQUENCE:3
DTSTAMP:20260421T161544Z
URL:https://www.apacc.net/events/details/cooking-for-diabetes-what-can-i-eat-195
END:VEVENT

END:VCALENDAR
