BEGIN:VCALENDAR
VERSION:2.0
PRODID:-//ChamberMaster//Event Calendar 2.0//EN
METHOD:PUBLISH
X-PUBLISHED-TTL:P3D
REFRESH-INTERVAL:P3D
CALSCALE:GREGORIAN
BEGIN:VEVENT
DTSTART:20250624T143000Z
DTEND:20250624T153000Z
X-MICROSOFT-CDO-ALLDAYEVENT:FALSE
SUMMARY:Contracting 101 Webinar with the State of Michigan Procurement
DESCRIPTION:Join representatives from State of Michigan Procurement for a webinar covering how to bid on State of Michigan contracts. \n\n\n\nSpeakers will review the basics of how to do business with the state & will include info on initiatives geared towards increasing opportunities for Geographically Disadvantaged Business Enterprises (GDBE). We'll also review our Let's Do Business vendor toolkit on Michigan.gov.\n\n\n\nClick here to view flyer
X-ALT-DESC;FMTTYPE=text/html:<br />\nJoin representatives from State of Michigan Procurement for a webinar covering how to bid on State of Michigan contracts.&nbsp\;<br />\n<br />\nSpeakers will review the basics of how to do business with the state &amp\; will include info on initiatives geared towards increasing opportunities for Geographically Disadvantaged Business Enterprises (GDBE). We&rsquo\;ll also review our <a href="https://www.michigan.gov/dtmb/procurement/contractconnect/lets-do-business" target="_blank">Let&rsquo\;s Do Business vendor toolkit</a> on Michigan.gov.<br />\n<br />\nClick <a href="https://chambermaster.blob.core.windows.net/userfiles/UserFiles/chambers/3222/File/Contracting1012025-06-24_Revised.pdf" target="_blank">here</a>&nbsp\;to view flyer
LOCATION:Webinar
UID:e.3222.2992
SEQUENCE:3
DTSTAMP:20260425T173906Z
URL:https://www.apacc.net/events/details/contracting-101-webinar-with-the-state-of-michigan-procurement-2992
END:VEVENT

END:VCALENDAR
