BEGIN:VCALENDAR
VERSION:2.0
PRODID:-//ChamberMaster//Event Calendar 2.0//EN
METHOD:PUBLISH
X-PUBLISHED-TTL:P3D
REFRESH-INTERVAL:P3D
CALSCALE:GREGORIAN
BEGIN:VEVENT
DTSTART;VALUE=DATE:20250715
DTEND;VALUE=DATE:20250718
TRANSP:TRANSPARENT
X-MICROSOFT-CDO-ALLDAYEVENT:TRUE
SUMMARY:Connect and Innovate at The Battery Show Asia & Mobility Tech Asia 2025
DESCRIPTION:The Battery Show Asia and Mobility Tech Asia 2025 is right around the corner! This premier event is set to bring together industry leaders\, innovators\, and manufacturers in the world of battery technology\, energy storage and EV/HV innovations. Taking place from July 15-17\, 2025 in Hong Kong\, it's the ideal platform to explore latest innovations\, network with influential professionals\, and stay ahead of industry trends.\n\n\n\nGET YOUR FREE EXPO PASS
X-ALT-DESC;FMTTYPE=text/html:<br />\n<span style="font-size:16px\;"><a href="https://www.thebatteryshow.asia/?utm_source=eloqua&amp\;utm_medium=email&amp\;utm_campaign=LE_NAM25TBSA_NR_01.05_BATT&amp\;sp_cid=20699&amp\;utm_content=LE_NAM25TBSA_NR_01.05_BATT_AA_JW_2022050610&amp\;sp_aid=41671&amp\;sp_rid=32685360&amp\;sp_eh=4514dfc1a09bf17f474f9827181c9a8cbbf71b0559d4ceb09b1eb541ce88602f&amp\;utm_medium=email&amp\;utm_source=dmhub&amp\;utm_campaign=2025tbsa_vp_tbs_global&amp\;utm_content=week1_1&amp\;elqTrackId=c5c5450fec564e3d93cd3f1f0af26146&amp\;elq=ddfec9bd5d8545d9956a22db22085929&amp\;elqaid=41671&amp\;elqat=1&amp\;elqCampaignId=20699&amp\;elqak=8AF59E65DE99B3778322978CBD9F21CE05DEDFC495613A26D6BE162952DDD81469DF" target="_blank">The Battery Show Asia </a>and <a href="https://www.mobilitytech.asia/?utm_source=eloqua&amp\;utm_medium=email&amp\;utm_campaign=LE_NAM25TBSA_NR_01.05_BATT&amp\;sp_cid=20699&amp\;utm_content=LE_NAM25TBSA_NR_01.05_BATT_AA_JW_2022050610&amp\;sp_aid=41671&amp\;sp_rid=32685360&amp\;sp_eh=4514dfc1a09bf17f474f9827181c9a8cbbf71b0559d4ceb09b1eb541ce88602f&amp\;utm_medium=email&amp\;utm_source=dmhub&amp\;utm_campaign=2025tbsa_vp_tbs_global&amp\;utm_content=week1_1&amp\;elqTrackId=095e4f94a76743fcb6b638bf1a3399da&amp\;elq=ddfec9bd5d8545d9956a22db22085929&amp\;elqaid=41671&amp\;elqat=1&amp\;elqCampaignId=20699&amp\;elqak=8AF59AC2FC6EDF7DF347F99149FCADBBFCFFDFC495613A26D6BE162952DDD81469DF" target="_blank">Mobility Tech Asia</a> 2025 is right around the corner! This premier event is set to bring together industry leaders\, innovators\, and manufacturers in the world of battery technology\, energy storage and EV/HV innovations. Taking place from July 15-17\, 2025 in Hong Kong\, it&rsquo\;s the ideal platform to explore latest innovations\, network with influential professionals\, and stay ahead of industry trends.<br />\n<br />\n<a href="https://tbsamta.imasia-passport.com/en/user/register?utm_source=eloqua&amp\;utm_medium=email&amp\;utm_campaign=LE_NAM25TBSA_NR_01.05_BATT&amp\;sp_cid=20699&amp\;utm_content=LE_NAM25TBSA_NR_01.05_BATT_AA_JW_2022050610&amp\;sp_aid=41671&amp\;sp_rid=32685360&amp\;sp_eh=4514dfc1a09bf17f474f9827181c9a8cbbf71b0559d4ceb09b1eb541ce88602f&amp\;utm_medium=email&amp\;utm_source=dmhub&amp\;utm_campaign=2025tbsa_vp_tbs_global&amp\;utm_content=week1_1&amp\;elqTrackId=6199a76be23141a391a09f8fbec76c54&amp\;elq=ddfec9bd5d8545d9956a22db22085929&amp\;elqaid=41671&amp\;elqat=1&amp\;elqCampaignId=20699&amp\;elqak=8AF503A81E6BFB907A8463B971D88DA677DBDFC495613A26D6BE162952DDD81469DF" target="_blank">GET YOUR FREE EXPO PASS</a></span><br />\n<br />\n&nbsp\;
LOCATION:Asia World-Expo\, Hong Kong
UID:e.3222.2994
SEQUENCE:3
DTSTAMP:20260425T204048Z
URL:https://www.apacc.net/events/details/connect-and-innovate-at-the-battery-show-asia-mobility-tech-asia-2025-2994
END:VEVENT

END:VCALENDAR
