BEGIN:VCALENDAR
VERSION:2.0
PRODID:-//ChamberMaster//Event Calendar 2.0//EN
METHOD:PUBLISH
X-PUBLISHED-TTL:P3D
REFRESH-INTERVAL:P3D
CALSCALE:GREGORIAN
BEGIN:VEVENT
DTSTART:20200903T200000Z
DTEND:20200903T203000Z
X-MICROSOFT-CDO-ALLDAYEVENT:FALSE
SUMMARY:Comerica Bank Presents - Leadership in Transformational Times
DESCRIPTION:You are invited to the sixth and final event in our Virtual Outlook on America Summer Series\,featuring Garry Ridge\, Chairman and Chief Executive Officer of WD-40 Company.  This event will be hosted by Comerica Bank Social Media Manager\, Susan Siravo.\n\n\n\nThis event by WD-40 Company Chairman and CEO Garry Ridge will be a look "under the hood" of one of the world's most recognized brands\, where employee engagement is above 93%.  Garry will share his company's "learning moments" over the course of his efforts to transform the company's culture.\n\n\n\nKey takeaways:\n\n	The personal journey of every servant leader\, and why that philosophy is critical\n	The emotional connection of a greater purpose that creates high engagement\n	How to carefully and consciously choose values that will be embedded in all aspects of leadership and employee development\n	Why investing in people who invest in themselves is a secret to succession planning and greater organizational capability\n\n\n\nThis event is part of the Comerica Bank Virtual Outlook on America Summer Series\n\n\n\nWe look forward to presenting additional events this Fall designed to bring you valuable business content and information on topics for business transformation including economic and market updates\, and information on the 2020 political landscape. \n\n\n\nFor a look at the series\, including previous virtual events\, please click here.
X-ALT-DESC;FMTTYPE=text/html:You are invited to the sixth and final event in our Virtual Outlook on America Summer Series\,featuring <strong>Garry Ridge\, Chairman and Chief Executive Officer of WD-40 Company</strong>.&nbsp\; This event will be hosted by <strong>Comerica Bank Social Media Manager\, Susan Siravo</strong>.<br />\n<br />\nThis event by WD-40 Company Chairman and CEO Garry Ridge will be a look &ldquo\;under the hood&rdquo\; of one of the world&rsquo\;s most recognized brands\, where employee engagement is above 93%.&nbsp\; Garry will share his company&rsquo\;s &ldquo\;learning moments&rdquo\; over the course of his efforts to transform the company&rsquo\;s culture.<br />\n<br />\n<strong>Key takeaways</strong>:\n<ul>\n	<li>The personal journey of every servant leader\, and why that philosophy is critical</li>\n	<li>The emotional connection of a greater purpose that creates high engagement</li>\n	<li>How to carefully and consciously choose values that will be embedded in all aspects of leadership and employee development</li>\n	<li>Why investing in people who invest in themselves is a secret to succession planning and greater organizational capability</li>\n</ul>\n<br />\nThis event is part of the <strong>Comerica Bank Virtual Outlook on America Summer Series</strong><br />\n<br />\nWe look forward to presenting additional events this Fall designed to bring you valuable business content and information on topics for business transformation including economic and market updates\, and information on the 2020 political landscape.&nbsp\;<br />\n<br />\nFor a look at the series\, including previous virtual events\, <a href="https://events.comerica.com/riseforbiz" target="_blank">please click here</a>.&nbsp\;&nbsp\;
LOCATION:Virtual Event by Comerica Bank
UID:e.3222.1948
SEQUENCE:3
DTSTAMP:20260424T092029Z
URL:https://www.apacc.net/events/details/comerica-bank-presents-leadership-in-transformational-times-1948
END:VEVENT

END:VCALENDAR
