BEGIN:VCALENDAR
VERSION:2.0
PRODID:-//ChamberMaster//Event Calendar 2.0//EN
METHOD:PUBLISH
X-PUBLISHED-TTL:P3D
REFRESH-INTERVAL:P3D
CALSCALE:GREGORIAN
BEGIN:VEVENT
DTSTART:20200806T160000Z
DTEND:20200806T170000Z
X-MICROSOFT-CDO-ALLDAYEVENT:FALSE
SUMMARY:Comerica Bank Presents Business $EN$E Boot Camp
DESCRIPTION:Please join Comerica Bank Senior Vice President and Chief Economist\, Robert A. Dye\, Ph.D.\, as he shares his insights into the current economic situation during this COVID-19 pandemic. He will discuss current conditions and the economic outlook for the U.S. and key Comerica states.\n\n\n\nForecasting Cash Flow will pick up where session 1's cash flow discussion left off with a review & discussion of tools\, techniques\, and controls to manage and forecast cash flow during these challenging pandemic times.\n\n\n\nSo please join us in learning how to forecast\, plan for\, and navigate our new economic landscape!\n\n\n\nPresented By:\n\n	Dr. Robert Dye\, Chief Economist\, Comerica Bank\n	Terry Robinson\, Senior Vice President & Department Manager\, Middle Market Banking\, Comerica Bank\n	Ted Tzafaroglou\, Principal at New England Consulting Partners
X-ALT-DESC;FMTTYPE=text/html:Please join Comerica Bank Senior Vice President and Chief Economist\, Robert A. Dye\, Ph.D.\, as he shares his insights into the current economic situation during this COVID-19 pandemic. He will discuss current conditions and the economic outlook for the U.S. and key Comerica states.<br />\n<br />\nForecasting Cash Flow will pick up where session 1&rsquo\;s cash flow discussion left off with a review &amp\; discussion of tools\, techniques\, and controls to manage and forecast cash flow during these challenging pandemic times.<br />\n<br />\nSo please join us in learning how to forecast\, plan for\, and navigate our new economic landscape!<br />\n<br />\n<strong>Presented By</strong>:\n<ul>\n	<li>Dr. Robert Dye\, Chief Economist\, Comerica Bank</li>\n	<li>Terry Robinson\, Senior Vice President &amp\; Department Manager\, Middle Market Banking\, Comerica Bank</li>\n	<li>Ted Tzafaroglou\, Principal at New England Consulting Partners</li>\n</ul>\n&nbsp\;
LOCATION:Webinar by Comerica Bank & MEDC
UID:e.3222.1913
SEQUENCE:3
DTSTAMP:20260424T092029Z
URL:https://www.apacc.net/events/details/comerica-bank-presents-business-en-e-boot-camp-1913
END:VEVENT

END:VCALENDAR
