BEGIN:VCALENDAR
VERSION:2.0
PRODID:-//ChamberMaster//Event Calendar 2.0//EN
METHOD:PUBLISH
X-PUBLISHED-TTL:P3D
REFRESH-INTERVAL:P3D
CALSCALE:GREGORIAN
BEGIN:VEVENT
DTSTART:20200820T160000Z
DTEND:20200820T170000Z
X-MICROSOFT-CDO-ALLDAYEVENT:FALSE
SUMMARY:Comerica Bank/MMSDC Business $EN$E Boot Camp #3
DESCRIPTION:Financial Crisis Management and Restructuring during Turbulent Times\n\n\n\nAbout this Event\n\n\n\nPlease join Comerica Bank Senior Vice President\, Middle Market Banking\, Steve Davis\, as he shares his insights into how to Restructure your Business in a Post-COVID world\n\n\n\nSteve will be joined by Sean Pattinson\, Principal at Plante Moran\, and Sheldon Stone\, Partner at Amherst Partners\, as they share their experiences as experts in Business and Organizational Restructuring during these challenging pandemic times.\n\n\n\nSo please join us in learning how to navigate our new economic landscape!\n\n\n\nPresented By:\n\n\n\nSteve Davis | Senior Vice President | Middle Market Banking\n\n\n\nComerica Bank\n\n\n\nSean A. Pattison | Principal | Management Consulting\n\n\n\nPlante Moran\n\n\n\nSheldon L. Stone |Partner\n\n\n\nRestructuring Advisory Practice Leader\, Amherst Partners
X-ALT-DESC;FMTTYPE=text/html:<strong>Financial Crisis Management and Restructuring during Turbulent Times</strong><br />\n<br />\n<strong>About this Event</strong><br />\n<br />\nPlease join Comerica Bank Senior Vice President\, Middle Market Banking\, Steve Davis\, as he shares his insights into how to Restructure your Business in a Post-COVID world<br />\n<br />\nSteve will be joined by Sean Pattinson\, Principal at Plante Moran\, and Sheldon Stone\, Partner at Amherst Partners\, as they share their experiences as experts in Business and Organizational Restructuring during these challenging pandemic times.<br />\n<br />\nSo please join us in learning how to navigate our new economic landscape!<br />\n<br />\n<strong>Presented By</strong>:<br />\n<br />\n<strong>Steve Davis</strong> | Senior Vice President | Middle Market Banking<br />\n<br />\nComerica Bank<br />\n<br />\n<strong>Sean A. Pattison</strong> | Principal | Management Consulting<br />\n<br />\nPlante Moran<br />\n<br />\n<strong>Sheldon L. Stone</strong> |Partner<br />\n<br />\nRestructuring Advisory Practice Leader\, Amherst Partners
LOCATION:Webinar by Comerica Bank & MMSDC
UID:e.3222.1929
SEQUENCE:3
DTSTAMP:20260423T232625Z
URL:https://www.apacc.net/events/details/comerica-bank-mmsdc-business-en-e-boot-camp-3-1929
END:VEVENT

END:VCALENDAR
