BEGIN:VCALENDAR
VERSION:2.0
PRODID:-//ChamberMaster//Event Calendar 2.0//EN
METHOD:PUBLISH
X-PUBLISHED-TTL:P3D
REFRESH-INTERVAL:P3D
CALSCALE:GREGORIAN
BEGIN:VEVENT
DTSTART:20200331T200000Z
DTEND:20200331T210000Z
X-MICROSOFT-CDO-ALLDAYEVENT:FALSE
SUMMARY:Comerica Bank Economic Outlook
DESCRIPTION:In order to keep you updated on the economic impacts of the Novel Coronavirus (COVID-19)\, Comerica is hosting a virtual Economic Outlook on America event. \n\n \n\nComerica Chief Economist\, Robert Dye\, will provide the latest insights through a Q&A format with Social Media Manager Susan Siravo.\n\n \n\nTopics will include:\n\n	Current state of the U.S. economy\n	Fiscal stimulus plan passed by Congress\n	Federal Reserve's unlimited quantitative easing\n	Outlook for post-crisis economy
X-ALT-DESC;FMTTYPE=text/html:In order to keep you updated on the economic impacts of the Novel Coronavirus (COVID-19)\, Comerica is hosting a virtual Economic Outlook on America event.&nbsp\;<br />\n&nbsp\;<br />\nComerica Chief Economist\, Robert Dye\, will provide the latest insights through a Q&amp\;A format with Social Media Manager Susan Siravo.<br />\n&nbsp\;<br />\nTopics will include:\n<ul>\n	<li>Current state of the U.S. economy</li>\n	<li>Fiscal stimulus plan passed by Congress</li>\n	<li>Federal Reserve&rsquo\;s unlimited quantitative easing</li>\n	<li>Outlook for post-crisis economy&nbsp\;</li>\n</ul>\n
LOCATION:Log in to Vimeo using the following information: URL: https://livestream.com/accounts/5297578/Comerica Password: comerica2020
UID:e.3222.1642
SEQUENCE:3
DTSTAMP:20260424T070837Z
URL:https://www.apacc.net/events/details/comerica-bank-economic-outlook-1642
END:VEVENT

END:VCALENDAR
